BEGIN:VCALENDAR
VERSION:2.0
PRODID:-//Braunschweig Spiegel - ECPv6.15.20//NONSGML v1.0//EN
CALSCALE:GREGORIAN
METHOD:PUBLISH
X-WR-CALNAME:Braunschweig Spiegel
X-ORIGINAL-URL:https://braunschweig-spiegel.de
X-WR-CALDESC:Veranstaltungen für Braunschweig Spiegel
REFRESH-INTERVAL;VALUE=DURATION:PT1H
X-Robots-Tag:noindex
X-PUBLISHED-TTL:PT1H
BEGIN:VTIMEZONE
TZID:Europe/Berlin
BEGIN:DAYLIGHT
TZOFFSETFROM:+0100
TZOFFSETTO:+0200
TZNAME:CEST
DTSTART:20250330T010000
END:DAYLIGHT
BEGIN:STANDARD
TZOFFSETFROM:+0200
TZOFFSETTO:+0100
TZNAME:CET
DTSTART:20251026T010000
END:STANDARD
BEGIN:DAYLIGHT
TZOFFSETFROM:+0100
TZOFFSETTO:+0200
TZNAME:CEST
DTSTART:20260329T010000
END:DAYLIGHT
BEGIN:STANDARD
TZOFFSETFROM:+0200
TZOFFSETTO:+0100
TZNAME:CET
DTSTART:20261025T010000
END:STANDARD
BEGIN:DAYLIGHT
TZOFFSETFROM:+0100
TZOFFSETTO:+0200
TZNAME:CEST
DTSTART:20270328T010000
END:DAYLIGHT
BEGIN:STANDARD
TZOFFSETFROM:+0200
TZOFFSETTO:+0100
TZNAME:CET
DTSTART:20271031T010000
END:STANDARD
END:VTIMEZONE
BEGIN:VEVENT
DTSTART;TZID=Europe/Berlin:20260815T200000
DTEND;TZID=Europe/Berlin:20260815T223000
DTSTAMP:20260424T013024
CREATED:20260420T114439Z
LAST-MODIFIED:20260420T114439Z
UID:75419-1786824000-1786833000@braunschweig-spiegel.de
SUMMARY:Hofkonzert: Summer Swing im Hof der jakob-kemenate
DESCRIPTION:Nach dem großen Erfolg der Hofkonzerte in den vergangenen Jahren lädt die jakob-kemenate erneut zu einem entspannten Musikabend unter freiem Himmel ein – an einem der stimmungsvollsten Orte Braunschweigs. Das Michael Strauss Trio präsentiert wieder internationale Klassiker von George Gershwin über Nat King Cole und Dean Martin bis hin zu Cole Porter\, Frank Sinatra und Ray Charles. Mit dabei sind Géza Gál (Piano\, Keyboards & Akkordeon)\, Wolfram Bäse-Jöbges (Percussion) sowie Michael Strauss (Gitarre & Gesang). Genießen Sie den Ausklang des Abends bei guten Gesprächen und einem Glas Wein.\nBei ungünstiger Witterung findet das Konzert in den Räumen der jakob-kemenate statt.
URL:https://braunschweig-spiegel.de/termin/hofkonzert-summer-swing-im-hof-der-jakob-kemenate-2/
LOCATION:Jakob-Kemenate Braunschweig Eiermarkt 1B
END:VEVENT
BEGIN:VEVENT
DTSTART;TZID=Europe/Berlin:20260817T170000
DTEND;TZID=Europe/Berlin:20260817T200000
DTSTAMP:20260424T013024
CREATED:20260420T113818Z
LAST-MODIFIED:20260420T113818Z
UID:75417-1786986000-1786996800@braunschweig-spiegel.de
SUMMARY:Hofkonzert: Summer Swing im Hof der jakob-kemenate
DESCRIPTION:Nach dem großen Erfolg der Hofkonzerte in den vergangenen Jahren lädt die jakob-kemenate erneut zu einem entspannten Musikabend unter freiem Himmel ein – an einem der stimmungsvollsten Orte Braunschweigs. Das Michael Strauss Trio präsentiert wieder internationale Klassiker von George Gershwin über Nat King Cole und Dean Martin bis hin zu Cole Porter\, Frank Sinatra und Ray Charles. Mit dabei sind Géza Gál (Piano\, Keyboards & Akkordeon)\, Wolfram Bäse-Jöbges (Percussion) sowie Michael Strauss (Gitarre & Gesang). Genießen Sie den Ausklang des Abends bei guten Gesprächen und einem Glas Wein.\nBei ungünstiger Witterung findet das Konzert in den Räumen der jakob-kemenate statt.
URL:https://braunschweig-spiegel.de/termin/hofkonzert-summer-swing-im-hof-der-jakob-kemenate/
LOCATION:Jakob-Kemenate Braunschweig Eiermarkt 1B
END:VEVENT
END:VCALENDAR