BEGIN:VCALENDAR
VERSION:2.0
PRODID:-//Braunschweig Spiegel - ECPv6.15.20//NONSGML v1.0//EN
CALSCALE:GREGORIAN
METHOD:PUBLISH
X-ORIGINAL-URL:https://braunschweig-spiegel.de
X-WR-CALDESC:Veranstaltungen für Braunschweig Spiegel
REFRESH-INTERVAL;VALUE=DURATION:PT1H
X-Robots-Tag:noindex
X-PUBLISHED-TTL:PT1H
BEGIN:VTIMEZONE
TZID:Europe/Berlin
BEGIN:DAYLIGHT
TZOFFSETFROM:+0100
TZOFFSETTO:+0200
TZNAME:CEST
DTSTART:20250330T010000
END:DAYLIGHT
BEGIN:STANDARD
TZOFFSETFROM:+0200
TZOFFSETTO:+0100
TZNAME:CET
DTSTART:20251026T010000
END:STANDARD
BEGIN:DAYLIGHT
TZOFFSETFROM:+0100
TZOFFSETTO:+0200
TZNAME:CEST
DTSTART:20260329T010000
END:DAYLIGHT
BEGIN:STANDARD
TZOFFSETFROM:+0200
TZOFFSETTO:+0100
TZNAME:CET
DTSTART:20261025T010000
END:STANDARD
BEGIN:DAYLIGHT
TZOFFSETFROM:+0100
TZOFFSETTO:+0200
TZNAME:CEST
DTSTART:20270328T010000
END:DAYLIGHT
BEGIN:STANDARD
TZOFFSETFROM:+0200
TZOFFSETTO:+0100
TZNAME:CET
DTSTART:20271031T010000
END:STANDARD
END:VTIMEZONE
BEGIN:VEVENT
DTSTART;TZID=Europe/Berlin:20260421T190000
DTEND;TZID=Europe/Berlin:20260421T210000
DTSTAMP:20260419T153317
CREATED:20260415T190802Z
LAST-MODIFIED:20260415T190802Z
UID:75213-1776798000-1776805200@braunschweig-spiegel.de
SUMMARY:Jahre im Schatten: Eine Reihe zum Erinnern an mutige Stimmen"- heute: In Liebe\, Eure Hilde (Spielfilm)
DESCRIPTION:Jahre im Schatten: Eine Reihe zum Erinnern an mutige Stimmen.\nIm Widerstand gegen das NS-Regime zeigten zahlreiche Menschen außergewöhnlichen Mut. Viele dieser Widerständigen – unter ihnen auch Schriftsteller*innen\, Künstler*innen\, Angehörige von Gewerkschaften\, Jurist*innen – organisierten sich im Geheimen oder übten sogar offen Kritik. Einige Namen bleiben bis heute bekannt: die Geschwister Scholl\, Bertolt Brecht\, Stauffenberg. Viele andere Geschichten und Namen blieben jedoch im Verborgenen oder wurden vergessen. Im Wunsch\, Menschlichkeit in einer unmenschlichen Zeit zu bewahren\, bezahlten diese Menschen einen hohen Preis: Verfolgung\, Folter oder mit dem eigenen Leben. Sie bleiben ein Beweis dafür\, dass selbst angesichts der überwältigenden Gewalt und des entsetzlichen Terrors des Nationalsozialismus immer ein Funke an Menschlichkeit\, Zivilcourage und Hoffnung überlebte.\nGerade heute ist es wichtig\, an diese Stimmen aus der Vergangenheit zu erinnern und gleichermaßen über unsere Gegenwart nachzudenken.\nAnmeldung unter koop-son.de
URL:https://braunschweig-spiegel.de/termin/jahre-im-schatten-eine-reihe-zum-erinnern-an-mutige-stimmen-heute-in-liebe-eure-hilde-spielfilm/
LOCATION:Universum Filmtheater\, Neuer Straße 8\, Braunschweig\, 38100
END:VEVENT
BEGIN:VEVENT
DTSTART;TZID=Europe/Berlin:20260423T083000
DTEND;TZID=Europe/Berlin:20260423T130000
DTSTAMP:20260419T153317
CREATED:20260205T194615Z
LAST-MODIFIED:20260205T194615Z
UID:73739-1776933000-1776949200@braunschweig-spiegel.de
SUMMARY:Zukunftstag bei der Arbeitsagentur Braunschweig – jetzt anmelden!
DESCRIPTION:Am 23. April findet der bundesweite Zukunftstag statt. Dieser Aktionstag soll zur\nklischeefreien Berufsorientierung von Jungen und Mädchen beitragen.\nDie Agentur für Arbeit am Cyriaksring in Braunschweig bietet ebenfalls an diesem\nTag von 8.30 Uhr bis 13.30 Uhr einen Blick hinter die Kulissen und hat dafür ein\nEscape-Game mit spannenden Rätseln vorbereitet.\nDie Teilnehmerplätze sind begrenzt.\nAlso heute gleich anmelden unter www.eveeno.com/zukunftstag26 \nCyriaksring 10\, 38118 Braunschweig
URL:https://braunschweig-spiegel.de/termin/zukunftstag-bei-der-arbeitsagentur-braunschweig-jetzt-anmelden/
LOCATION:Agentur für Arbeit Braunschweig-Goslar\, Cyriaksring 10\, Braunschweig\, 38118
END:VEVENT
BEGIN:VEVENT
DTSTART;TZID=Europe/Berlin:20260426T100000
DTEND;TZID=Europe/Berlin:20260426T130000
DTSTAMP:20260419T153317
CREATED:20260311T093653Z
LAST-MODIFIED:20260311T093904Z
UID:74536-1777197600-1777208400@braunschweig-spiegel.de
SUMMARY:Inklusionslauf "Neuerkerode bewegt"
DESCRIPTION:Der Inklusionslauf findet am Sonntag\, den 26.04. von ca. 10:00 – 13:00 Uhr statt und ist ein super Familienevent in toller Atmosphäre. Der Lauf selbst steht für herzliche Begegnungen auf Augenhöhe\, Teilhabe und Barrierefreiheit. Es geht nicht um Geschwindigkeit\, sondern um das Miteinander.\n\n\n\n\n\n\n\n\n\n\n\n\n\nInteressierte können wählen zwischen Lauf-\, Walking-\, Rad- oder Rollstuhlstrecken rund um Neuerkerode (1\, 3\, 6 oder 10 Kilometer).\nAnmeldungen sind bis zum 20.April möglich – die Teilnahme ist kostenlos. \nWeitere Informationen findet ihr unter folgendem Link: >>KLICK<<
URL:https://braunschweig-spiegel.de/termin/inklusionslauf-neuerkerode-bewegt/
LOCATION:Ev. Stiftung Neuerkerode
END:VEVENT
BEGIN:VEVENT
DTSTART;TZID=Europe/Berlin:20260428T150000
DTEND;TZID=Europe/Berlin:20260428T170000
DTSTAMP:20260419T153317
CREATED:20260415T191527Z
LAST-MODIFIED:20260415T191544Z
UID:75219-1777388400-1777395600@braunschweig-spiegel.de
SUMMARY:wider&wider: Verbotsliste 2: Hermynia Zur Mühlens Unsere Töchter\, die Nazinen (1935) – Eine szenische Lesung mit Musik
DESCRIPTION:Jahre im Schatten: Eine Reihe zum Erinnern an mutige Stimmen.\nIm Widerstand gegen das NS-Regime zeigten zahlreiche Menschen außergewöhnlichen Mut. Viele dieser Widerständigen – unter ihnen auch Schriftsteller*innen\, Künstler*innen\, Angehörige von Gewerkschaften\, Jurist*innen – organisierten sich im Geheimen oder übten sogar offen Kritik. Einige Namen bleiben bis heute bekannt: die Geschwister Scholl\, Bertolt Brecht\, Stauffenberg. Viele andere Geschichten und Namen blieben jedoch im Verborgenen oder wurden vergessen. Im Wunsch\, Menschlichkeit in einer unmenschlichen Zeit zu bewahren\, bezahlten diese Menschen einen hohen Preis: Verfolgung\, Folter oder mit dem eigenen Leben. Sie bleiben ein Beweis dafür\, dass selbst angesichts der überwältigenden Gewalt und des entsetzlichen Terrors des Nationalsozialismus immer ein Funke an Menschlichkeit\, Zivilcourage und Hoffnung überlebte.\nGerade heute ist es wichtig\, an diese Stimmen aus der Vergangenheit zu erinnern und gleichermaßen über unsere Gegenwart nachzudenken.\nAnmeldung unter koop-son.de
URL:https://braunschweig-spiegel.de/termin/widerwider-verbotsliste-2-hermynia-zur-muehlens-unsere-toechter-die-nazinen-1935-eine-szenische-lesung-mit-musik/
LOCATION:Nexus\, Frankfurter Str. 253b\, Braunschweig
END:VEVENT
BEGIN:VEVENT
DTSTART;TZID=Europe/Berlin:20260428T180000
DTEND;TZID=Europe/Berlin:20260428T200000
DTSTAMP:20260419T153317
CREATED:20260306T145028Z
LAST-MODIFIED:20260306T145028Z
UID:74385-1777399200-1777406400@braunschweig-spiegel.de
SUMMARY:Fremdarbeitereinsatz bei Büssing - NAG 1935 bis 1945
DESCRIPTION:Am 28. April hält Dr. Eckhard Fischer im Rahmen eines INDUSTRIEKULTUR Cafés spezial in der Gedenkstätte Schillstraße Braunschweig einen Vortrag mit dem Titel „Fremdarbeitereinsatz bei Büssing – NAG 1935 bis 1945“.\nDie Nachfrage ist groß\, rechtzeitiges Buchen empfiehlt sich.
URL:https://braunschweig-spiegel.de/termin/fremdarbeitereinsatz-bei-buessing-nag-1935-bis-1945/
LOCATION:Gedenkstätte Schillerstraße\, Schillerstraße 25\, Berlin
END:VEVENT
BEGIN:VEVENT
DTSTART;TZID=Europe/Berlin:20260430T183000
DTEND;TZID=Europe/Berlin:20260430T220000
DTSTAMP:20260419T153317
CREATED:20260410T105713Z
LAST-MODIFIED:20260410T105713Z
UID:75095-1777573800-1777586400@braunschweig-spiegel.de
SUMMARY:Tanz in den Mai 2026
DESCRIPTION:Liebe Mitglieder und Freundinnen und Freunde des ver.di Ortsvereins Braunschweig\, liebe Mitglieder im Bezirksvorstand\, liebe Hauptamtliche\, \nauch 2026 laden der ver.di Ortsvereinsvorstand Braunschweig und der AWO-Kreisverband Braunschweig zum Tanz in den Mai ein. \nIn schon fast guter alter Tradition spielen Axel Uhde und Fritz Köster wieder live für uns. Im Anschluss darf nach Herzenslust getanzt und geklönt werden. \nEs gibt\, gegen einen Obolus\, natürlich auch Getränke und Knabbereien. \nEs sind noch Plätze frei und wir freuen uns über Eure Anmeldung\, die Information darf gerne weitergegeben werden. \nAnmeldung (ausschließlich!) über: \nhttps://gstoo.de/maitanz2026 \nEs können nur Anmeldungen berücksichtigt werden\, die an den vorgenannten Link gesandt werden. \nMit herzlichen Grüßen von Sabine Asendorf \nVorsitzende des ver.di-Ortsvereins Braunschweig \n 
URL:https://braunschweig-spiegel.de/termin/tanz-in-den-mai-2026/
LOCATION:AWO Begegnungsstätte Frankfurterstraße 18
END:VEVENT
BEGIN:VEVENT
DTSTART;TZID=Europe/Berlin:20260504T160000
DTEND;TZID=Europe/Berlin:20260504T180000
DTSTAMP:20260419T153317
CREATED:20260415T192131Z
LAST-MODIFIED:20260415T192131Z
UID:75225-1777910400-1777917600@braunschweig-spiegel.de
SUMMARY:"Ein Mensch ist erst vergessen\, wenn sein Name vergessen ist“ Stolpersteine-Tour
DESCRIPTION:Jahre im Schatten: Eine Reihe zum Erinnern an mutige Stimmen.\nIm Widerstand gegen das NS-Regime zeigten zahlreiche Menschen außergewöhnlichen Mut. Viele dieser Widerständigen – unter ihnen auch Schriftsteller*innen\, Künstler*innen\, Angehörige von Gewerkschaften\, Jurist*innen – organisierten sich im Geheimen oder übten sogar offen Kritik. Einige Namen bleiben bis heute bekannt: die Geschwister Scholl\, Bertolt Brecht\, Stauffenberg. Viele andere Geschichten und Namen blieben jedoch im Verborgenen oder wurden vergessen. Im Wunsch\, Menschlichkeit in einer unmenschlichen Zeit zu bewahren\, bezahlten diese Menschen einen hohen Preis: Verfolgung\, Folter oder mit dem eigenen Leben. Sie bleiben ein Beweis dafür\, dass selbst angesichts der überwältigenden Gewalt und des entsetzlichen Terrors des Nationalsozialismus immer ein Funke an Menschlichkeit\, Zivilcourage und Hoffnung überlebte.\nGerade heute ist es wichtig\, an diese Stimmen aus der Vergangenheit zu erinnern und gleichermaßen über unsere Gegenwart nachzudenken.\nAnmeldung unter koop-son.de \nStolpersteine erinnern an Menschen\, die von den Nationalsozialisten ausgegrenzt\, verfolgt oder ermordet wurden. Über 400 dieser glänzenden Steine liegen inzwischen schon in Braunschweig vor den jeweils letzten frei gewählten Wohnorten. Bei dieser Stolpersteine-Tour wird vom Schicksal einiger dieser Menschen erzählt\, ihrer Angst und Verzweiflung aber auch von dem Mut Einzelner\, Widerstand zu leisten.\nLeitung: Jutta Salzmann und Helge Greunke\, Förderverein Stolpersteine für Braunschweig\nDie Tour ist kostenlos\, eine Anmeldung ist nicht nötig.\nReferent*in: Jutta Salzmann und Helge Greunke\, Förderverein Stolpersteine für Braunschweig
URL:https://braunschweig-spiegel.de/termin/ein-mensch-ist-erst-vergessen-wenn-sein-name-vergessen-ist-stolpersteine-tour/
LOCATION:Kaffeetwere 1\, Braunschweig
END:VEVENT
BEGIN:VEVENT
DTSTART;TZID=Europe/Berlin:20260509T140000
DTEND;TZID=Europe/Berlin:20260509T210000
DTSTAMP:20260419T153317
CREATED:20260410T110212Z
LAST-MODIFIED:20260410T110212Z
UID:75099-1778335200-1778360400@braunschweig-spiegel.de
SUMMARY:Pastasciutta Antifascista 2026 – gemeinsam feiern\, erinnern & essen
DESCRIPTION:Liebe Freund*innen\, liebe Genoss*innen\, \n  \nwir laden euch herzlich zur Pastasciutta Antifascista 2026 ein – einem Fest anlässlich des 81. Jahrestags der Befreiung von Krieg und Faschismus. \nIn Erinnerung an den antifaschistischen Widerstand und den 8. Mai als Tag der Befreiung wollen wir zusammenkommen\, uns austauschen\, feiern und gemeinsam essen. Die Pastasciutta Antifascista steht dabei für Solidarität\, Hoffnung und gelebten Widerstand – gestern wie heute. \n  \nWas euch erwartet:\nEin Fest im Freien auf dem Gelände der Naturfreunde am Südsee mit kostenfreier vegetarischer & veganer Pasta\, Kaffee & Kuchen\, Cocktails\, Craftbeer aus Braunschweig und einem vielfältigen Kulturprogramm. \n  \nProgrammüberblick:\n🕑 Ab 14:00 Uhr Einlass\n🕒 15:00 Uhr Eröffnung des Festes\n🕔 Ab 17:00 Uhr Gemeinsames Pastaessen\n🕕 Ab 18:00 Uhr Kulturprogramm mit \n\nAchim Bigus (Liedermacher)\nChor Klartext (Braunschweig)\nLzy & Vasil (HipHop aus Braunschweig)\nSpecial Guests\n\n  \nEin Sommerfest für Jung und Alt – und alle dazwischen. Im Mittelpunkt stehen der gemütliche Austausch\, gemeinsames Essen und Musik. \n  \nOrt: Naturfreundehaus Braunschweig\, Schrotweg 112\, 38122 Braunschweig (direkt am Südsee) \n  \nKommt vorbei\, bringt Freund*innen und Genoss*innen mit und lasst uns gemeinsam ein Zeichen setzen:\nNie wieder Faschismus. Nie wieder Krieg. \n  \nWir freuen uns auf euch! \n  \nSolidarische Grüße\,\nDie Veranstaltenden \n 
URL:https://braunschweig-spiegel.de/termin/pastasciutta-antifascista-2026-gemeinsam-feiern-erinnern-essen/
LOCATION:Naturfreundehaus Braunschweig\, Schrotweg 112\, 38122 Braunschweig (direkt am Südsee)
END:VEVENT
BEGIN:VEVENT
DTSTART;TZID=Europe/Berlin:20260510T193000
DTEND;TZID=Europe/Berlin:20260510T223000
DTSTAMP:20260419T153317
CREATED:20260415T193204Z
LAST-MODIFIED:20260415T193204Z
UID:75229-1778441400-1778452200@braunschweig-spiegel.de
SUMMARY:Einführung in die Inszenierung Das kunstseidene Mädchen. 1931/2026.
DESCRIPTION:Jahre im Schatten: Eine Reihe zum Erinnern an mutige Stimmen.\nIm Widerstand gegen das NS-Regime zeigten zahlreiche Menschen außergewöhnlichen Mut. Viele dieser Widerständigen – unter ihnen auch Schriftsteller*innen\, Künstler*innen\, Angehörige von Gewerkschaften\, Jurist*innen – organisierten sich im Geheimen oder übten sogar offen Kritik. Einige Namen bleiben bis heute bekannt: die Geschwister Scholl\, Bertolt Brecht\, Stauffenberg. Viele andere Geschichten und Namen blieben jedoch im Verborgenen oder wurden vergessen. Im Wunsch\, Menschlichkeit in einer unmenschlichen Zeit zu bewahren\, bezahlten diese Menschen einen hohen Preis: Verfolgung\, Folter oder mit dem eigenen Leben. Sie bleiben ein Beweis dafür\, dass selbst angesichts der überwältigenden Gewalt und des entsetzlichen Terrors des Nationalsozialismus immer ein Funke an Menschlichkeit\, Zivilcourage und Hoffnung überlebte.\nGerade heute ist es wichtig\, an diese Stimmen aus der Vergangenheit zu erinnern und gleichermaßen über unsere Gegenwart nachzudenken.\nAnmeldung unter koop-son.de\n\nDas kunstseidene Mädchen. 1931. 2026.\nNach Irmgard Keun in einer Bearbeitung von Regina Wenig Kühn\, wild und rauschhaft – ein Leben auf Messers Schneide: Das ist Irmgard Keun\, eine der erfolgreichsten Autorinnen der Weimarer Republik. Ein Leben am Abgrund: Alkoholexzesse\, Exil und Verarmung\, auch das ist Irmgard Keun. »Etwas Liebe muss schon dabei sein\, wo blieben sonst die Ideale?« sagt Doris\, die blutjunge Protagonistin aus Keuns berühmtestem Roman\, »Das kunstseidene Mädchen«\, der 1932 erschienen ist. Doris träumt vom Erfolg\, vom Theater und vom Kino\, »ein Glanz« will sie werden\, raus aus der Armut\, der Provinz\, nach Berlin reißt sie aus\, dem verheißungsvollen Sehnsuchtsort. Knallhart ist das Leben dann dort. Sich selbst muss sie zu Markte tragen. In ihrem Lebenshunger gleicht Doris ihrer Schöpferin: schnoddrig\, witzig\, pointiert und voller Herz.\nDie Theatermacherin Regina Wenig\, die sich 2021 für das JUNGE! Schauspiel in Braunschweig bereits mit Sophie Scholl auseinandergesetzt hat (»Freiheit und Widerstand«)\, stellt in ihrer Inszenierung Irmgard Keun neben Doris\, das »kunstseidene Mädchen«. Und sie blickt nach vorne\, lässt die Träume dieser Frauen weiterwandern\, in eine hoffentlich verheißungsvolle Zukunft.\nAufführungsdauer: ca. 2 h 30 min\, eine Pause\nContent Notes: Im Stück werden Suizid und sexualisierte Gewalt thematisiert. Es wird über Nationalsozialismus und Krieg gesprochen\, ebenso über Flucht und Vertreibung. All dies auf einer sprachlichen Eben. Irmgard Keuns Alkoholismus wird dargestellt.
URL:https://braunschweig-spiegel.de/termin/einfuehrung-in-die-inszenierung-das-kunstseidene-maedchen-1931-2026/
LOCATION:Staatstheater\, Großer Saal\, Am Theater\, Braunschweig
END:VEVENT
BEGIN:VEVENT
DTSTART;TZID=Europe/Berlin:20260512T183000
DTEND;TZID=Europe/Berlin:20260512T210000
DTSTAMP:20260419T153317
CREATED:20260415T194143Z
LAST-MODIFIED:20260415T194919Z
UID:75236-1778610600-1778619600@braunschweig-spiegel.de
SUMMARY:Bin ich schön?
DESCRIPTION:Die Erfolgsserie „Bin ich schön?“ ist zurück! Wir laden Sie herzlich zu einem exklusiven Preview-Abend mit zwei Folgen der neuen Staffel ein. Außerdem erwartet Sie ein spannender Talk. Content Creatorin Sandra Lambeck\, Psychologin Dr. Julia Tanck sowie zwei Protagonist*innen aus der dritten Staffel sprechen über ihre Erfahrungen bei den Dreharbeiten und über Schönheitsdruck und Selbstwahrnehmung. Moderiert wird der Abend von Aminata Belli (deep und deutlich).\nDie dritte Staffel begleitet zwei Frauen und zwei Männer über mehrere Monate auf ihrem Weg zur persönlichen Schönheit. Von Beauty-Eingriffen wie Brust-OPs oder einer Haartransplantation bis hin zu Lipp-Fillern mit Hyaluron – immer verbunden mit der Hoffnung\, sich im eigenen Körper wohler zu fühlen. Doch machen solche Eingriffe wirklich glücklich? Und warum ist der Wunsch nach Veränderung oft so groß? Zwischen Social Media\, Selbstoptimierung und dem ständigen Vergleich mit anderen wächst der Druck\, schön zu sein. Die Zahl der Schönheitseingriffe steigt – besonders auch bei Männern.\nIn “Bin ich schön?” Staffel 3 verraten Influencer*innen mit mehreren Millionen Follower*innen\, welche Eingriffe vorgenommen wurden und welche sie davon bereuen. Auch sie suchen ihren Weg zwischen Selbstzweifeln\, Erwartungen und dem Wunsch nach Zufriedenheit. \nAnmeldung unter: preview@ndr.de
URL:https://braunschweig-spiegel.de/termin/bin-ich-schoen-staffel-3/
LOCATION:Astor Filmtheater\, Lange Str. 60\, Braunschweig\, 38100
END:VEVENT
BEGIN:VEVENT
DTSTART;TZID=Europe/Berlin:20260531T180000
DTEND;TZID=Europe/Berlin:20260531T190000
DTSTAMP:20260419T153317
CREATED:20260403T072139Z
LAST-MODIFIED:20260403T072139Z
UID:74951-1780250400-1780254000@braunschweig-spiegel.de
SUMMARY:DER CHOR Braunschweig: Chorgesang\, Andacht und Orgelmusik in St. Magni Benefizkonzert für das Ubuntu Kinderhaus in Windhoek
DESCRIPTION:DER CHOR Braunschweig lädt am 31. Mai um 18 Uhr zu einem besonderen Benefizkonzert in die Kirche St. Magni\, Ölschlägern 15 A\, 38100 Braunschweig\, ein.\n\nUnter der musikalischen Leitung von Christine Heidenreich widmet sich DER CHOR Braunschweig e.V. einem vielseitigen Repertoire aus Liedern unterschiedlichster Länder und Epochen. Das Programm umfasst sowohl geistliche als auch weltliche Werke und verspricht einen abwechslungsreichen musikalischen Abend.\nDas Konzert wird durch eine Andacht\, gestaltet von Pastor Böger\, ergänzt. An der Orgel ist der Magni-Organist Tristan Eissing zu hören.\n\nDer Erlös des Abends kommt dem Verein ubuntu child Namibia e.V. zugute\, der seit über 20 Jahren Kinder und Jugendliche aus schwierigen Lebensverhältnissen im Windhoeker Stadtteil Katutura unterstützt. \n💖 Unterstützen Sie das Ubuntu Kinderhaus und erleben Sie einen unvergesslichen Abend voller Musik!
URL:https://braunschweig-spiegel.de/termin/der-chor-braunschweig-chorgesang-andacht-und-orgelmusik-in-st-magni-benefizkonzert-fuer-das-ubuntu-kinderhaus-in-windhoek/
END:VEVENT
BEGIN:VEVENT
DTSTART;TZID=Europe/Berlin:20260620T150000
DTEND;TZID=Europe/Berlin:20260620T210000
DTSTAMP:20260419T153317
CREATED:20260309T153054Z
LAST-MODIFIED:20260309T153054Z
UID:74484-1781967600-1781989200@braunschweig-spiegel.de
SUMMARY:Südsee Open Air
DESCRIPTION:Das Südsee Open Air wird seit 2015 von den Naturfreunden Braunschweig und der Naturfreundejugend Braunschweig organisiert und vollständig ehrenamtlich durchgeführt. In diesem Jahr steht das Festival zudem im Zeichen eines besonderen Jubiläums: Die Naturfreundejugend feiert bundesweit ihr 100‑jähriges Bestehen.\nWie in den vergangenen Jahren legt das Südsee Open Air großen Wert auf ein familiäres\, offenes und inklusives Klima. Der Eintritt ist frei\, Speisen und Getränke werden zu günstigen\, sozial verträglichen Preisen angeboten. Auf der Bühne stehen lokale und regionale Bands sowie DJs\, die für ein abwechslungsreiches musikalisches Programm sorgen.\n„Das Südsee Open Air ist mehr als ein Musikfestival – es ist ein Ort der Begegnung\, getragen von Ehrenamt\, regionaler Kulturszene und dem Anspruch\, ein niedrigschwelliges Angebot für alle zu schaffen“\, so die Veranstalter*innen.\nNach der einjährigen Pause freuen sich die Veranstaltenden darauf\, wieder zahlreiche Menschen am Südsee begrüßen zu dürfen und gemeinsam ein Zeichen für ehrenamtliches Engagement\, Jugendkultur und gelebte Gemeinschaft zu setzen.
URL:https://braunschweig-spiegel.de/termin/suedsee-open-air/
LOCATION:Gelände der Naturfreunde am Südsee\, Schrotweg 112\, Braunschweig
END:VEVENT
END:VCALENDAR