BEGIN:VCALENDAR
VERSION:2.0
PRODID:-//Braunschweig Spiegel - ECPv6.15.20//NONSGML v1.0//EN
CALSCALE:GREGORIAN
METHOD:PUBLISH
X-ORIGINAL-URL:https://braunschweig-spiegel.de
X-WR-CALDESC:Veranstaltungen für Braunschweig Spiegel
REFRESH-INTERVAL;VALUE=DURATION:PT1H
X-Robots-Tag:noindex
X-PUBLISHED-TTL:PT1H
BEGIN:VTIMEZONE
TZID:Europe/Berlin
BEGIN:DAYLIGHT
TZOFFSETFROM:+0100
TZOFFSETTO:+0200
TZNAME:CEST
DTSTART:20250330T010000
END:DAYLIGHT
BEGIN:STANDARD
TZOFFSETFROM:+0200
TZOFFSETTO:+0100
TZNAME:CET
DTSTART:20251026T010000
END:STANDARD
BEGIN:DAYLIGHT
TZOFFSETFROM:+0100
TZOFFSETTO:+0200
TZNAME:CEST
DTSTART:20260329T010000
END:DAYLIGHT
BEGIN:STANDARD
TZOFFSETFROM:+0200
TZOFFSETTO:+0100
TZNAME:CET
DTSTART:20261025T010000
END:STANDARD
BEGIN:DAYLIGHT
TZOFFSETFROM:+0100
TZOFFSETTO:+0200
TZNAME:CEST
DTSTART:20270328T010000
END:DAYLIGHT
BEGIN:STANDARD
TZOFFSETFROM:+0200
TZOFFSETTO:+0100
TZNAME:CET
DTSTART:20271031T010000
END:STANDARD
END:VTIMEZONE
BEGIN:VEVENT
DTSTART;TZID=Europe/Berlin:20260512T183000
DTEND;TZID=Europe/Berlin:20260512T210000
DTSTAMP:20260423T224936
CREATED:20260415T194143Z
LAST-MODIFIED:20260415T194919Z
UID:75236-1778610600-1778619600@braunschweig-spiegel.de
SUMMARY:Bin ich schön?
DESCRIPTION:Die Erfolgsserie „Bin ich schön?“ ist zurück! Wir laden Sie herzlich zu einem exklusiven Preview-Abend mit zwei Folgen der neuen Staffel ein. Außerdem erwartet Sie ein spannender Talk. Content Creatorin Sandra Lambeck\, Psychologin Dr. Julia Tanck sowie zwei Protagonist*innen aus der dritten Staffel sprechen über ihre Erfahrungen bei den Dreharbeiten und über Schönheitsdruck und Selbstwahrnehmung. Moderiert wird der Abend von Aminata Belli (deep und deutlich).\nDie dritte Staffel begleitet zwei Frauen und zwei Männer über mehrere Monate auf ihrem Weg zur persönlichen Schönheit. Von Beauty-Eingriffen wie Brust-OPs oder einer Haartransplantation bis hin zu Lipp-Fillern mit Hyaluron – immer verbunden mit der Hoffnung\, sich im eigenen Körper wohler zu fühlen. Doch machen solche Eingriffe wirklich glücklich? Und warum ist der Wunsch nach Veränderung oft so groß? Zwischen Social Media\, Selbstoptimierung und dem ständigen Vergleich mit anderen wächst der Druck\, schön zu sein. Die Zahl der Schönheitseingriffe steigt – besonders auch bei Männern.\nIn “Bin ich schön?” Staffel 3 verraten Influencer*innen mit mehreren Millionen Follower*innen\, welche Eingriffe vorgenommen wurden und welche sie davon bereuen. Auch sie suchen ihren Weg zwischen Selbstzweifeln\, Erwartungen und dem Wunsch nach Zufriedenheit. \nAnmeldung unter: preview@ndr.de
URL:https://braunschweig-spiegel.de/termin/bin-ich-schoen-staffel-3/
LOCATION:Astor Filmtheater\, Lange Str. 60\, Braunschweig\, 38100
END:VEVENT
END:VCALENDAR