BEGIN:VCALENDAR
VERSION:2.0
PRODID:-//Braunschweig Spiegel - ECPv6.15.20//NONSGML v1.0//EN
CALSCALE:GREGORIAN
METHOD:PUBLISH
X-WR-CALNAME:Braunschweig Spiegel
X-ORIGINAL-URL:https://braunschweig-spiegel.de
X-WR-CALDESC:Veranstaltungen für Braunschweig Spiegel
REFRESH-INTERVAL;VALUE=DURATION:PT1H
X-Robots-Tag:noindex
X-PUBLISHED-TTL:PT1H
BEGIN:VTIMEZONE
TZID:Europe/Berlin
BEGIN:DAYLIGHT
TZOFFSETFROM:+0100
TZOFFSETTO:+0200
TZNAME:CEST
DTSTART:20250330T010000
END:DAYLIGHT
BEGIN:STANDARD
TZOFFSETFROM:+0200
TZOFFSETTO:+0100
TZNAME:CET
DTSTART:20251026T010000
END:STANDARD
BEGIN:DAYLIGHT
TZOFFSETFROM:+0100
TZOFFSETTO:+0200
TZNAME:CEST
DTSTART:20260329T010000
END:DAYLIGHT
BEGIN:STANDARD
TZOFFSETFROM:+0200
TZOFFSETTO:+0100
TZNAME:CET
DTSTART:20261025T010000
END:STANDARD
BEGIN:DAYLIGHT
TZOFFSETFROM:+0100
TZOFFSETTO:+0200
TZNAME:CEST
DTSTART:20270328T010000
END:DAYLIGHT
BEGIN:STANDARD
TZOFFSETFROM:+0200
TZOFFSETTO:+0100
TZNAME:CET
DTSTART:20271031T010000
END:STANDARD
END:VTIMEZONE
BEGIN:VEVENT
DTSTART;TZID=Europe/Berlin:20260510T193000
DTEND;TZID=Europe/Berlin:20260510T223000
DTSTAMP:20260423T224813
CREATED:20260415T193204Z
LAST-MODIFIED:20260415T193204Z
UID:75229-1778441400-1778452200@braunschweig-spiegel.de
SUMMARY:Einführung in die Inszenierung Das kunstseidene Mädchen. 1931/2026.
DESCRIPTION:Jahre im Schatten: Eine Reihe zum Erinnern an mutige Stimmen.\nIm Widerstand gegen das NS-Regime zeigten zahlreiche Menschen außergewöhnlichen Mut. Viele dieser Widerständigen – unter ihnen auch Schriftsteller*innen\, Künstler*innen\, Angehörige von Gewerkschaften\, Jurist*innen – organisierten sich im Geheimen oder übten sogar offen Kritik. Einige Namen bleiben bis heute bekannt: die Geschwister Scholl\, Bertolt Brecht\, Stauffenberg. Viele andere Geschichten und Namen blieben jedoch im Verborgenen oder wurden vergessen. Im Wunsch\, Menschlichkeit in einer unmenschlichen Zeit zu bewahren\, bezahlten diese Menschen einen hohen Preis: Verfolgung\, Folter oder mit dem eigenen Leben. Sie bleiben ein Beweis dafür\, dass selbst angesichts der überwältigenden Gewalt und des entsetzlichen Terrors des Nationalsozialismus immer ein Funke an Menschlichkeit\, Zivilcourage und Hoffnung überlebte.\nGerade heute ist es wichtig\, an diese Stimmen aus der Vergangenheit zu erinnern und gleichermaßen über unsere Gegenwart nachzudenken.\nAnmeldung unter koop-son.de\n\nDas kunstseidene Mädchen. 1931. 2026.\nNach Irmgard Keun in einer Bearbeitung von Regina Wenig Kühn\, wild und rauschhaft – ein Leben auf Messers Schneide: Das ist Irmgard Keun\, eine der erfolgreichsten Autorinnen der Weimarer Republik. Ein Leben am Abgrund: Alkoholexzesse\, Exil und Verarmung\, auch das ist Irmgard Keun. »Etwas Liebe muss schon dabei sein\, wo blieben sonst die Ideale?« sagt Doris\, die blutjunge Protagonistin aus Keuns berühmtestem Roman\, »Das kunstseidene Mädchen«\, der 1932 erschienen ist. Doris träumt vom Erfolg\, vom Theater und vom Kino\, »ein Glanz« will sie werden\, raus aus der Armut\, der Provinz\, nach Berlin reißt sie aus\, dem verheißungsvollen Sehnsuchtsort. Knallhart ist das Leben dann dort. Sich selbst muss sie zu Markte tragen. In ihrem Lebenshunger gleicht Doris ihrer Schöpferin: schnoddrig\, witzig\, pointiert und voller Herz.\nDie Theatermacherin Regina Wenig\, die sich 2021 für das JUNGE! Schauspiel in Braunschweig bereits mit Sophie Scholl auseinandergesetzt hat (»Freiheit und Widerstand«)\, stellt in ihrer Inszenierung Irmgard Keun neben Doris\, das »kunstseidene Mädchen«. Und sie blickt nach vorne\, lässt die Träume dieser Frauen weiterwandern\, in eine hoffentlich verheißungsvolle Zukunft.\nAufführungsdauer: ca. 2 h 30 min\, eine Pause\nContent Notes: Im Stück werden Suizid und sexualisierte Gewalt thematisiert. Es wird über Nationalsozialismus und Krieg gesprochen\, ebenso über Flucht und Vertreibung. All dies auf einer sprachlichen Eben. Irmgard Keuns Alkoholismus wird dargestellt.
URL:https://braunschweig-spiegel.de/termin/einfuehrung-in-die-inszenierung-das-kunstseidene-maedchen-1931-2026/
LOCATION:Staatstheater\, Großer Saal\, Am Theater\, Braunschweig
END:VEVENT
END:VCALENDAR