BEGIN:VCALENDAR
VERSION:2.0
PRODID:-//Braunschweig Spiegel - ECPv6.15.20//NONSGML v1.0//EN
CALSCALE:GREGORIAN
METHOD:PUBLISH
X-WR-CALNAME:Braunschweig Spiegel
X-ORIGINAL-URL:https://braunschweig-spiegel.de
X-WR-CALDESC:Veranstaltungen für Braunschweig Spiegel
REFRESH-INTERVAL;VALUE=DURATION:PT1H
X-Robots-Tag:noindex
X-PUBLISHED-TTL:PT1H
BEGIN:VTIMEZONE
TZID:Europe/Berlin
BEGIN:DAYLIGHT
TZOFFSETFROM:+0100
TZOFFSETTO:+0200
TZNAME:CEST
DTSTART:20250330T010000
END:DAYLIGHT
BEGIN:STANDARD
TZOFFSETFROM:+0200
TZOFFSETTO:+0100
TZNAME:CET
DTSTART:20251026T010000
END:STANDARD
BEGIN:DAYLIGHT
TZOFFSETFROM:+0100
TZOFFSETTO:+0200
TZNAME:CEST
DTSTART:20260329T010000
END:DAYLIGHT
BEGIN:STANDARD
TZOFFSETFROM:+0200
TZOFFSETTO:+0100
TZNAME:CET
DTSTART:20261025T010000
END:STANDARD
BEGIN:DAYLIGHT
TZOFFSETFROM:+0100
TZOFFSETTO:+0200
TZNAME:CEST
DTSTART:20270328T010000
END:DAYLIGHT
BEGIN:STANDARD
TZOFFSETFROM:+0200
TZOFFSETTO:+0100
TZNAME:CET
DTSTART:20271031T010000
END:STANDARD
END:VTIMEZONE
BEGIN:VEVENT
DTSTART;TZID=Europe/Berlin:20260422T190000
DTEND;TZID=Europe/Berlin:20260422T210000
DTSTAMP:20260422T113404
CREATED:20260420T105443Z
LAST-MODIFIED:20260420T143817Z
UID:75407-1776884400-1776891600@braunschweig-spiegel.de
SUMMARY:Dokumentarfilm: "Mein neues altes Ich – Eine Reise in das Mysterium der Menopause"
DESCRIPTION:In MEIN NEUES ALTES ICH begibt sich die Filmemacherin Louise Unmack Kjeldsen auf eine emotionale Reise in ihre eigene Metamorphose und die medizinischen Hintergründe der Menopause. Louise und andere betroffene Frauen aus aller Welt erzählen offen über ihre Erlebnisse mit starken Symptomen der Menopause.\nObwohl die Hälfte der Weltbevölkerung die Menopause erlebt und viele Frauen darunter so leiden\, dass ihr Alltag stark beeinträchtigt ist\, ist diese Lebensphase noch immer wenig erforscht. Über Jahrhunderte trugen historische Vorurteile dazu bei\, dass viele Betroffene im Stillen litten und Wissen bis heute begrenzt ist.\nNun suchen Forschende weltweit nach Antworten\, um die Auswirkungen des Östrogenrückgangs auf Körper und Gehirn zu ergründen.\nMEIN NEUES ALTES ICH bricht Tabus\, deckt Mythen und Fehlinformationen auf und rückt die Menopause in ein neues Licht. \nKarten gibt es direkt über das Universum: Universum Filmtheater: Programm. \nWir zeigen den Film gemeinsam mit der GEW\, der IG Metall\, ver.di und der Kooperationsstelle Hochschule und Gewerkschaften. \nZum Hintergrund: Die DGB-Frauen setzen sich aktiv für Gender-gerechte und Gender-sensible Medizin ein. Dazu gibt es mehrere Anträge auf der DGB-Bezirksfrauenkonferenz und der DGB-Bundesfrauenkonferenz 2025.
URL:https://braunschweig-spiegel.de/termin/dokumentarfilm-mein-neues-altes-ich-eine-reise-in-das-mysterium-der-menopause-im-universum/
LOCATION:Universum Filmtheater\, Neuer Straße 8\, Braunschweig\, 38100
END:VEVENT
END:VCALENDAR