BEGIN:VCALENDAR
VERSION:2.0
PRODID:-//Braunschweig Spiegel - ECPv6.15.20//NONSGML v1.0//EN
CALSCALE:GREGORIAN
METHOD:PUBLISH
X-WR-CALNAME:Braunschweig Spiegel
X-ORIGINAL-URL:https://braunschweig-spiegel.de
X-WR-CALDESC:Veranstaltungen für Braunschweig Spiegel
REFRESH-INTERVAL;VALUE=DURATION:PT1H
X-Robots-Tag:noindex
X-PUBLISHED-TTL:PT1H
BEGIN:VTIMEZONE
TZID:Europe/Berlin
BEGIN:DAYLIGHT
TZOFFSETFROM:+0100
TZOFFSETTO:+0200
TZNAME:CEST
DTSTART:20250330T010000
END:DAYLIGHT
BEGIN:STANDARD
TZOFFSETFROM:+0200
TZOFFSETTO:+0100
TZNAME:CET
DTSTART:20251026T010000
END:STANDARD
BEGIN:DAYLIGHT
TZOFFSETFROM:+0100
TZOFFSETTO:+0200
TZNAME:CEST
DTSTART:20260329T010000
END:DAYLIGHT
BEGIN:STANDARD
TZOFFSETFROM:+0200
TZOFFSETTO:+0100
TZNAME:CET
DTSTART:20261025T010000
END:STANDARD
BEGIN:DAYLIGHT
TZOFFSETFROM:+0100
TZOFFSETTO:+0200
TZNAME:CEST
DTSTART:20270328T010000
END:DAYLIGHT
BEGIN:STANDARD
TZOFFSETFROM:+0200
TZOFFSETTO:+0100
TZNAME:CET
DTSTART:20271031T010000
END:STANDARD
END:VTIMEZONE
BEGIN:VEVENT
DTSTART;TZID=Europe/Berlin:20260418T110000
DTEND;TZID=Europe/Berlin:20260418T143000
DTSTAMP:20260422T200739
CREATED:20260415T183244Z
LAST-MODIFIED:20260415T183439Z
UID:75206-1776510000-1776522600@braunschweig-spiegel.de
SUMMARY:Für eine solidarische Stadt – gegen Reichsbürger:innen!
DESCRIPTION:Gegenprotest am 18.04.!\nAlle hinaus zur Kundgebung am Samstag\, den 18.04.2026 ab 11 Uhr auf dem Schlossplatz Braunschweig!\nAm 18. April soll ab 12 Uhr „Das große Treffen der Bundesstaaten“ auf dem Schlossplatz in Braunschweig stattfinden. Nach Erfahrung aus anderen Städten können 500 bis 1000 Reichsbürger:innen\, Verschwörungsideolog:innen und Neonazis erwartet werden.\nSpätestens seit Corona-Protesten und der rechtsterroristischen Vereinigung um Heinrich Prinz Reuß ist die sehr heterogene Gruppe der Reichsbürger:innen einer größeren Öffentlichkeit bekannt.\nReichsbürger:innen vereint die Vorstellung\, das deutsche Reich existiere weiter\, Geschichtsrevisionismus und ein antisemitisches und verschwörerisches Weltbild.Sie lehnen die Gleichheit aller Menschen und das Prinzip universeller Menschenrechte ab.\nDie Szene ist waffenaffin und gewaltbereit.So wurden bei vergangenen Razzien immer wieder größere Mengen an Schusswaffen und Sprengstoff\, auch aus Bundeswehrbeständen\, gefunden.\nDie Reichsbürger:innen-Szene ist eng verwoben mit Neonazis\, AfD und Esoteriker:innen. Sie unterstützen sich bei Mobilisierungen\, besuchen sich gegenseitig auf Veranstaltungen und Rechtsrockkonzerten.Unsere Region stellt einen Hotspot der Szene dar\, beispielsweise gibt es einige „Familienlandsitze“ der rechts-esoterischen Anastasia Bewegung und zentrale Akteur:innen der Reichsbürger:innenszene wohnen hier.\nDie Vernetzungen in verschiedene Bereiche der (extrem) rechten Szene\, die wachsende Zahl der Anhänger:innen und die Durchsetzung ihrer kruden Ideologie mittels (Waffen-)Gewalt zeigen\, dass die Reichsbürger:innenszene kein Witz\, sondern eine ernstzunehmende Bedrohung ist!\nDem stellen wir uns als solidarische Stadtgesellschaft entgegen – vielfältig\, laut und bunt!Kommt ab 11:00 Uhr zu den Gegenprotesten rund um den Schlossplatz!
URL:https://braunschweig-spiegel.de/termin/fuer-eine-solidarische-stadt-gegen-reichsbuergerinnen/
LOCATION:Schlossplatz\, Braunschweig
END:VEVENT
END:VCALENDAR