BEGIN:VCALENDAR
VERSION:2.0
PRODID:-//Braunschweig Spiegel - ECPv6.15.20//NONSGML v1.0//EN
CALSCALE:GREGORIAN
METHOD:PUBLISH
X-WR-CALNAME:Braunschweig Spiegel
X-ORIGINAL-URL:https://braunschweig-spiegel.de
X-WR-CALDESC:Veranstaltungen für Braunschweig Spiegel
REFRESH-INTERVAL;VALUE=DURATION:PT1H
X-Robots-Tag:noindex
X-PUBLISHED-TTL:PT1H
BEGIN:VTIMEZONE
TZID:Europe/Berlin
BEGIN:DAYLIGHT
TZOFFSETFROM:+0100
TZOFFSETTO:+0200
TZNAME:CEST
DTSTART:20250330T010000
END:DAYLIGHT
BEGIN:STANDARD
TZOFFSETFROM:+0200
TZOFFSETTO:+0100
TZNAME:CET
DTSTART:20251026T010000
END:STANDARD
BEGIN:DAYLIGHT
TZOFFSETFROM:+0100
TZOFFSETTO:+0200
TZNAME:CEST
DTSTART:20260329T010000
END:DAYLIGHT
BEGIN:STANDARD
TZOFFSETFROM:+0200
TZOFFSETTO:+0100
TZNAME:CET
DTSTART:20261025T010000
END:STANDARD
BEGIN:DAYLIGHT
TZOFFSETFROM:+0100
TZOFFSETTO:+0200
TZNAME:CEST
DTSTART:20270328T010000
END:DAYLIGHT
BEGIN:STANDARD
TZOFFSETFROM:+0200
TZOFFSETTO:+0100
TZNAME:CET
DTSTART:20271031T010000
END:STANDARD
END:VTIMEZONE
BEGIN:VEVENT
DTSTART;TZID=Europe/Berlin:20260330T170000
DTEND;TZID=Europe/Berlin:20260330T190000
DTSTAMP:20260419T181923
CREATED:20260227T181443Z
LAST-MODIFIED:20260227T181443Z
UID:74153-1774890000-1774897200@braunschweig-spiegel.de
SUMMARY:Vortrag von Werner Renz zu Fritz Bauer und Thomas Harlan
DESCRIPTION:Für Fritz Bauer war Thomas Harlan ein Vorbild für die deutsche Jugend. Der 1929 geborene Sohn des Nazi-Regisseurs Veit Harlan\, der den antisemitischen Hetzfilm JUD SÜSS (D 1940) gedreht hatte und ein Günstling Joseph Goebbels gewesen war\, sagte sich radikal von seinem schuldigen Vater los. Harlan verließ Anfang der fünfziger Jahre das Täterland Deutschland und ging in Frankreich ins geistige Exil. Er sprach und schrieb nur noch Französisch. Ein Aufenthalt in Israel und die Begegnung mit Überlebenden des Warschauer\nGhettoaufstands führten ihn zu literarischem Schaffen. In Berlin kam sein Ghetto-Stück erfolgreich auf die Theaterbühne und Harlan nutzte den öffentlichen Auftritt\, um auf NS-Verbrecher hinzuweisen\, die unbehelligt und wohlsituiert in der BRD lebten.\nWährend eines mehrjährigen Aufenthalts in Polen forschte Harlan in Archiven und hatte die Absicht\, ein Werk über NS-Täter und -Täterinnen und ihr Weiterleben im „Vierten Reich“ zu schreiben. Das „Vierte Reich“ war für ihn die postnazistische Bundesrepublik Deutschland mit ihren unzähligen personellen Kontinuitäten. Fritz Bauer erfuhr durch polnische\nGesprächspartner von Harlans Archivstudien und nahm mit ihm Kontakt auf.\nHarlan seinerseits nutzte den Kontakt zu dem deutschen Juristen\, Strafanzeige gegen NS-Verbrecher zu erstatten. Im Laufe der Jahre entwickelte sich zwischen dem hessischen Generalstaatsanwalt und dem ambitionierten Schriftsteller Harlan eine Freundschaft\, in der es nahezu ausschließlich um Harlans literarisches Schaffen ging. Bauer förderte und\nunterstützte Harlan und sah in ihm einen vielversprechenden Autor von  Werken\, die Bauer um der Bewältigung unserer unvergänglichen Vergangenheit willen für die demokratische Entwicklung der Bundesrepublik für unabdingbar erachtete. Bauers in Harlan gesetzte Hoffnungen erfüllten sich nicht. Der fraglos genialische Autor scheiterte. Aller Rat und alle\nFörderung verliefen ins Leere. Die Freundschaft\, die Bauer überaus wichtig war\, führte zu schweren Zerwürfnissen und verlief letztendlich unglücklich. \nWerner Renz (Hrsg.): „Von Gott und der Welt verlassen“. Fritz Bauers Briefe an Thomas\nHarlan. Mit Einführungen und Anmerkungen von Werner Renz und Jean-Pierre Stephan\, Frankfurt am Main/New York: Campus Verlag\, 2015.
URL:https://braunschweig-spiegel.de/termin/vortrag-von-werner-renz-zu-fritz-bauer-und-thomas-harlan/
LOCATION:DGB-Haus\, Wilhelmstr. 5\, Braunschweig\, 38100
END:VEVENT
END:VCALENDAR