BEGIN:VCALENDAR
VERSION:2.0
PRODID:-//Braunschweig Spiegel - ECPv6.15.20//NONSGML v1.0//EN
CALSCALE:GREGORIAN
METHOD:PUBLISH
X-ORIGINAL-URL:https://braunschweig-spiegel.de
X-WR-CALDESC:Veranstaltungen für Braunschweig Spiegel
REFRESH-INTERVAL;VALUE=DURATION:PT1H
X-Robots-Tag:noindex
X-PUBLISHED-TTL:PT1H
BEGIN:VTIMEZONE
TZID:Europe/Berlin
BEGIN:DAYLIGHT
TZOFFSETFROM:+0100
TZOFFSETTO:+0200
TZNAME:CEST
DTSTART:20250330T010000
END:DAYLIGHT
BEGIN:STANDARD
TZOFFSETFROM:+0200
TZOFFSETTO:+0100
TZNAME:CET
DTSTART:20251026T010000
END:STANDARD
BEGIN:DAYLIGHT
TZOFFSETFROM:+0100
TZOFFSETTO:+0200
TZNAME:CEST
DTSTART:20260329T010000
END:DAYLIGHT
BEGIN:STANDARD
TZOFFSETFROM:+0200
TZOFFSETTO:+0100
TZNAME:CET
DTSTART:20261025T010000
END:STANDARD
BEGIN:DAYLIGHT
TZOFFSETFROM:+0100
TZOFFSETTO:+0200
TZNAME:CEST
DTSTART:20270328T010000
END:DAYLIGHT
BEGIN:STANDARD
TZOFFSETFROM:+0200
TZOFFSETTO:+0100
TZNAME:CET
DTSTART:20271031T010000
END:STANDARD
END:VTIMEZONE
BEGIN:VEVENT
DTSTART;TZID=Europe/Berlin:20260319T140000
DTEND;TZID=Europe/Berlin:20260319T220000
DTSTAMP:20260419T193500
CREATED:20260311T090702Z
LAST-MODIFIED:20260311T090702Z
UID:74524-1773928800-1773957600@braunschweig-spiegel.de
SUMMARY:Torstens Geburtstagsparty in der Vitamine
DESCRIPTION:Liebe Freundinnen und Freunde\,\nich bin nicht alt\, – ich bin nur schon ziemlich lange hier!\nSeit 1963 – also\, 63 Jahre!\nUnd das möchte ich mit euch feiern! – dezent!\n\nDas bedeutet\, – ich bin am Donnerstag\, 19.03.26  ab 14.00 Uhr in der Vita-Mine\, koche Kaffee\, kaufe Kuchen …\nUnd wer nichts besseres zu tun hat\, ist hiermit herzlichst eingeladen mir Gesellschaft zu leisten.\nAber bütte\, – schenkt mir nix! Vor allem keinen Pastis\, – der von meinem sechzigsten reicht bis zum Lebensende\, wann immer das sein mag!\nWer „unbedingt“ etwas schenken/spenden möchte\, – in der Vita-Mine kreischt der Hut! – denn abends ab 19.00 Uhr spielen die besten der Besten ein ganz besonders Konzert!\nDas gabs in den Minen noch nie!\nStefan Kleinkrieg (Extrabreit)\, Christopher Heimer (Gitarren-Genius)\, Josh Huff (Josh and the Blackbirds) musizieren als\n„Kleinkrieg-Trio“ nun endlich auch zu dritt!\n\nSeid dabei\, – meldet euch gerne auch an! Wir werden sehen\, wie sinnvoll das für diesem Abend sein wird!
URL:https://braunschweig-spiegel.de/termin/torstens-geburtstagsparty-in-der-vitamine/
LOCATION:Vita-Mine\, Karl-Marx-Straße\, Braunschweig
END:VEVENT
END:VCALENDAR