BEGIN:VCALENDAR
VERSION:2.0
PRODID:-//Braunschweig Spiegel - ECPv6.15.20//NONSGML v1.0//EN
CALSCALE:GREGORIAN
METHOD:PUBLISH
X-WR-CALNAME:Braunschweig Spiegel
X-ORIGINAL-URL:https://braunschweig-spiegel.de
X-WR-CALDESC:Veranstaltungen für Braunschweig Spiegel
REFRESH-INTERVAL;VALUE=DURATION:PT1H
X-Robots-Tag:noindex
X-PUBLISHED-TTL:PT1H
BEGIN:VTIMEZONE
TZID:Europe/Berlin
BEGIN:DAYLIGHT
TZOFFSETFROM:+0100
TZOFFSETTO:+0200
TZNAME:CEST
DTSTART:20250330T010000
END:DAYLIGHT
BEGIN:STANDARD
TZOFFSETFROM:+0200
TZOFFSETTO:+0100
TZNAME:CET
DTSTART:20251026T010000
END:STANDARD
BEGIN:DAYLIGHT
TZOFFSETFROM:+0100
TZOFFSETTO:+0200
TZNAME:CEST
DTSTART:20260329T010000
END:DAYLIGHT
BEGIN:STANDARD
TZOFFSETFROM:+0200
TZOFFSETTO:+0100
TZNAME:CET
DTSTART:20261025T010000
END:STANDARD
BEGIN:DAYLIGHT
TZOFFSETFROM:+0100
TZOFFSETTO:+0200
TZNAME:CEST
DTSTART:20270328T010000
END:DAYLIGHT
BEGIN:STANDARD
TZOFFSETFROM:+0200
TZOFFSETTO:+0100
TZNAME:CET
DTSTART:20271031T010000
END:STANDARD
END:VTIMEZONE
BEGIN:VEVENT
DTSTART;TZID=Europe/Berlin:20260218T190000
DTEND;TZID=Europe/Berlin:20260218T210000
DTSTAMP:20260419T212100
CREATED:20260107T092342Z
LAST-MODIFIED:20260107T092342Z
UID:73091-1771441200-1771448400@braunschweig-spiegel.de
SUMMARY:Friedensgespräch mit Fabian Scheidler zum Thema „Friedenstüchtig - Wie entkommen wir der selbstzerstörerischen Kriegslogik?“
DESCRIPTION:  \nFabian Scheidler\, Foto: privat\nAm Mittwoch\, 18. Februar\, um 19 Uhr spricht der Journalist und Autor Fabian Scheidler zum Thema „Friedenstüchtig – Wie entkommen wir der selbstzerstörerischen Kriegslogik?“.\nAchtung: Die Veranstaltung findet nicht im Kulturmarktplatz\, sondern im Festsaal des Hotels Goldene Krone\, Breite Straße 46\, statt. Scheidler beschreibt einen zunehmend militarisierten politischen Ausnahmezustand und warnt vor den sozialen\, demokratischen und ökonomischen Folgen einer als alternativlos dargestellten Kriegslogik. Gleichzeitig zeigt er Perspektiven für einen anderen Umgang mit den globalen Krisen auf. Scheidler ist Autor des internationalen Bestsellers „Das Ende der Megamaschine“\, Mitbegründer von Kontext TV und Träger des Otto-Brenner-Medienpreises für kritischen Journalismus. Als Dramaturg und Theaterautor arbeitete er viele Jahre für das Berliner Grips Theater. \nIm Anschluss an die Vorträge beantworten die Referierenden Fragen aus dem Publikum. Der Eintritt ist frei\, Spenden zur Finanzierung der Friedensgespräche sind willkommen. Aufgrund begrenzter Plätze wird eine Anmeldung unter goslarer.friedensgespraeche@posteo.de dringend empfohlen.
URL:https://braunschweig-spiegel.de/termin/friedensgespraech-mit-fabian-scheidler-zum-thema-friedenstuechtig-wie-entkommen-wir-der-selbstzerstoererischen-kriegslogik/
LOCATION:Festsaal des Hotels Goldene Krone\, Breite Straße 46\, Goslar\, 38640
ORGANIZER;CN="Goslarer Friedensb%C3%BCndnis":MAILTO:friedensbuendnis.goslar@posteo.de
END:VEVENT
END:VCALENDAR