BEGIN:VCALENDAR
VERSION:2.0
PRODID:-//Braunschweig Spiegel - ECPv6.15.20//NONSGML v1.0//EN
CALSCALE:GREGORIAN
METHOD:PUBLISH
X-WR-CALNAME:Braunschweig Spiegel
X-ORIGINAL-URL:https://braunschweig-spiegel.de
X-WR-CALDESC:Veranstaltungen für Braunschweig Spiegel
REFRESH-INTERVAL;VALUE=DURATION:PT1H
X-Robots-Tag:noindex
X-PUBLISHED-TTL:PT1H
BEGIN:VTIMEZONE
TZID:Europe/Berlin
BEGIN:DAYLIGHT
TZOFFSETFROM:+0100
TZOFFSETTO:+0200
TZNAME:CEST
DTSTART:20250330T010000
END:DAYLIGHT
BEGIN:STANDARD
TZOFFSETFROM:+0200
TZOFFSETTO:+0100
TZNAME:CET
DTSTART:20251026T010000
END:STANDARD
BEGIN:DAYLIGHT
TZOFFSETFROM:+0100
TZOFFSETTO:+0200
TZNAME:CEST
DTSTART:20260329T010000
END:DAYLIGHT
BEGIN:STANDARD
TZOFFSETFROM:+0200
TZOFFSETTO:+0100
TZNAME:CET
DTSTART:20261025T010000
END:STANDARD
BEGIN:DAYLIGHT
TZOFFSETFROM:+0100
TZOFFSETTO:+0200
TZNAME:CEST
DTSTART:20270328T010000
END:DAYLIGHT
BEGIN:STANDARD
TZOFFSETFROM:+0200
TZOFFSETTO:+0100
TZNAME:CET
DTSTART:20271031T010000
END:STANDARD
END:VTIMEZONE
BEGIN:VEVENT
DTSTART;TZID=Europe/Berlin:20260215T123000
DTEND;TZID=Europe/Berlin:20260215T170000
DTSTAMP:20260419T214309
CREATED:20260127T121600Z
LAST-MODIFIED:20260127T121600Z
UID:73457-1771158600-1771174800@braunschweig-spiegel.de
SUMMARY:48. Schoduvel in der Braunschweiger Innenstadt
DESCRIPTION:Ob als Löwe\, Lieblingsfigur aus Film und Fernsehen\, Hexe oder Alltagsheld: Am 15. Februar rufen Braunschweigerinnen\, Braunschweiger und alle Karnevalsbegeisterten in ihren bunten Kostümen laut „Brunswiek helau!“. Dann ziehen die rund 130 selbstgebauten Motivwagen und die mehr als 5.000 Teilnehmerinnen und Teilnehmer in Musik- und Spielmannszügen beim 48. Schoduvel durch die Braunschweiger Innenstadt und sorgen für eine ausgelassene Stimmung bei Gästen und Einheimischen. Los geht es um 12:45 Uhr am Europaplatz\, wo der Umzug nach rund vier Stunden auch wieder endet.
URL:https://braunschweig-spiegel.de/termin/48-schoduvel-in-der-braunschweiger-innenstadt/
LOCATION:Innenstadt  Braunschweig
END:VEVENT
END:VCALENDAR