BEGIN:VCALENDAR
VERSION:2.0
PRODID:-//Braunschweig Spiegel - ECPv6.15.20//NONSGML v1.0//EN
CALSCALE:GREGORIAN
METHOD:PUBLISH
X-ORIGINAL-URL:https://braunschweig-spiegel.de
X-WR-CALDESC:Veranstaltungen für Braunschweig Spiegel
REFRESH-INTERVAL;VALUE=DURATION:PT1H
X-Robots-Tag:noindex
X-PUBLISHED-TTL:PT1H
BEGIN:VTIMEZONE
TZID:Europe/Berlin
BEGIN:DAYLIGHT
TZOFFSETFROM:+0100
TZOFFSETTO:+0200
TZNAME:CEST
DTSTART:20250330T010000
END:DAYLIGHT
BEGIN:STANDARD
TZOFFSETFROM:+0200
TZOFFSETTO:+0100
TZNAME:CET
DTSTART:20251026T010000
END:STANDARD
BEGIN:DAYLIGHT
TZOFFSETFROM:+0100
TZOFFSETTO:+0200
TZNAME:CEST
DTSTART:20260329T010000
END:DAYLIGHT
BEGIN:STANDARD
TZOFFSETFROM:+0200
TZOFFSETTO:+0100
TZNAME:CET
DTSTART:20261025T010000
END:STANDARD
BEGIN:DAYLIGHT
TZOFFSETFROM:+0100
TZOFFSETTO:+0200
TZNAME:CEST
DTSTART:20270328T010000
END:DAYLIGHT
BEGIN:STANDARD
TZOFFSETFROM:+0200
TZOFFSETTO:+0100
TZNAME:CET
DTSTART:20271031T010000
END:STANDARD
END:VTIMEZONE
BEGIN:VEVENT
DTSTART;TZID=Europe/Berlin:20260213T150000
DTEND;TZID=Europe/Berlin:20260213T180000
DTSTAMP:20260419T212217
CREATED:20260203T091124Z
LAST-MODIFIED:20260203T091124Z
UID:73690-1770994800-1771005600@braunschweig-spiegel.de
SUMMARY:Antragstellung / Fundraising für Vereine und Initiativen“ – kostenfreies Schulungs-Format
DESCRIPTION:Das „BürgerKolleg Braunschweig“ bietet am 13. Februar 2026 die Möglichkeit\, den für engagierte Vereine und Initiativen so bedeutenden Themen-Bereich „Mittelbeschaffung\, Fundraising und Antragstellung“ grundlegend kennenzulernen. Hintergrund: Die kommenden Jahre werden geprägt sein von eheblichen Kürzungen öffentlicher Zuschüsse sowie weiterer finanzieller Förderungen für kulturelle und soziale Projekte und Akteure. \nDie ExpertInnen Marion Thomsen und Malte Schumacher führen ein in das Thema „Beschaffung finanzieller Unterstützung“\, insbesondere werden die Bereiche Spenden\, Sponsoring sowie Antragstellung bei Stiftungen detailliert und beispielhaft vorgestellt. Spezifische Fragen und aktuelle Bedarfe der Teilnehmenden werden vertiefend analysiert. \nZielgruppe: Ehrenamtlich Aktive aus Vereinen\, Initiativen oder anderen Non Profit-Organisationen. Darüber hinaus sind alle am Thema Interessierten herzlich eingeladen. \nANMELDE-FRIST: bis 11. Februar 2026.
URL:https://braunschweig-spiegel.de/termin/antragstellung-fundraising-fuer-vereine-und-initiativen-kostenfreies-schulungs-format/
LOCATION:VHS Braunschweig\, Heydenstraße 2\, Braunschweig
END:VEVENT
BEGIN:VEVENT
DTSTART;TZID=Europe/Berlin:20260213T190000
DTEND;TZID=Europe/Berlin:20260213T220000
DTSTAMP:20260419T212217
CREATED:20260130T152643Z
LAST-MODIFIED:20260130T152643Z
UID:73563-1771009200-1771020000@braunschweig-spiegel.de
SUMMARY:Eröffnung: 24. Internationale Münchner Friedenskonferenz - Gegen den Strom der Gewalt
DESCRIPTION:Freitag\, 13. Februar 2026 | 19 – 22 Uhr\nEinlass: 18 Uhr\n„I Refuse!“ – Weltweiter Widerstand gegen den Krieg (Präsenz und Live-Stream) (Simultanübersetzung englisch-deutsch)\nSimon David Dressler\, Political Influencer\,\nSofia Orr\, Mesarvot\, israelische Kriegsdienstverweigerin\nTimofy Vaskin\, Kriegsdienstverweigerer aus Russland\nYan Kormilishin\, Kriegsdienstverweigerer aus der Ukraine\nFranz Nadler\, Connection e.V.\nKatharina Rotmayr-Czerny\, Netzwerk Friedenssteuer\nModeration: Kerem Schamberger\, medico international \nSamstag\, 14. Februar 2026 | 10 – 12 Uhr\, Workshops (nur in Präsenz)\nWorkshop 1\nPlanspiel: Rüstungsexporte mit Harald Hellstern\, pax christi\nWorkshop 2\nExploratives Spiel mit Caren Niemann\nSamstag\, 14. Februar 2026 | 19 – 22 Uhr\nZeit zu reden:\nSanktionen und Boykott als Mittel von Politik und Zivilgesellschaft\n(Präsenz und Live-Stream) (nur in Deutsch)\nDeborah Feldman\, Autorin\nDr. Shir Hever\, Political Economist\nKhaled El Mahmoud\, Jurist und Völkerrechtler\nProf. Dr. Isabel Feichtner\, Rechtswissenschaftlerin\nModeration: Kristin Helberg\nMusik: Johannes König (Violoncello) und Pedro Aguiar (Gitarre)\n*************\nSonntag\, 15. Februar 2025 | 11 – 13 Uhr (in Präsenz)\nFabian Scheidler – Buchlesung „Friedenstüchtig“\nSonntag\, 15. Februar 2025 | 18 Uhr\nHansa-Haus\, Brienner Straße 39 (in Präsenz)\nFriedensgebet der Religionen \nVeranstaltungsort für das gesamte Konferenzwochenende: Salesianum\, St. Wolfgangs-Platz 11\, 81669 München\nDas Salesianum (St. Wolfgangs-Platz 11\, 81669 München) ist leider nicht barrierefrei. Wir möchten dennoch möglichst allen Menschen die Teilnahme ermöglichen und bieten bei Bedarf Unterstützung an\, etwa durch Begleitpersonen\, die beim Überwinden von Treppen helfen. Bite teilen Sie uns frühzeitig Ihren Unterstützungsbedarf mit\, damit wir alles gut vorbereiten können.\nWeitere Informationen wie auch Kartenvorverkauf: htps://friedenskonferenz.info/\nSpenden per Überweisung\nHMV-Bildungswerk e.V.\nIBAN: DE37 4306 0967 8217 1208 00 S�chwort „Friedenskonferenz“\nOder Online-spenden auf\nhtps://www.beterplace.org/de/projects/162042
URL:https://braunschweig-spiegel.de/termin/eroeffnung-24-internationale-muenchner-friedenskonferenz-gegen-den-strom-der-gewalt/
LOCATION:Salesianum\, St. Wolfgangs-Platz 11\,\, München\, 81669
END:VEVENT
END:VCALENDAR