BEGIN:VCALENDAR
VERSION:2.0
PRODID:-//Braunschweig Spiegel - ECPv6.15.20//NONSGML v1.0//EN
CALSCALE:GREGORIAN
METHOD:PUBLISH
X-ORIGINAL-URL:https://braunschweig-spiegel.de
X-WR-CALDESC:Veranstaltungen für Braunschweig Spiegel
REFRESH-INTERVAL;VALUE=DURATION:PT1H
X-Robots-Tag:noindex
X-PUBLISHED-TTL:PT1H
BEGIN:VTIMEZONE
TZID:Europe/Berlin
BEGIN:DAYLIGHT
TZOFFSETFROM:+0100
TZOFFSETTO:+0200
TZNAME:CEST
DTSTART:20250330T010000
END:DAYLIGHT
BEGIN:STANDARD
TZOFFSETFROM:+0200
TZOFFSETTO:+0100
TZNAME:CET
DTSTART:20251026T010000
END:STANDARD
BEGIN:DAYLIGHT
TZOFFSETFROM:+0100
TZOFFSETTO:+0200
TZNAME:CEST
DTSTART:20260329T010000
END:DAYLIGHT
BEGIN:STANDARD
TZOFFSETFROM:+0200
TZOFFSETTO:+0100
TZNAME:CET
DTSTART:20261025T010000
END:STANDARD
BEGIN:DAYLIGHT
TZOFFSETFROM:+0100
TZOFFSETTO:+0200
TZNAME:CEST
DTSTART:20270328T010000
END:DAYLIGHT
BEGIN:STANDARD
TZOFFSETFROM:+0200
TZOFFSETTO:+0100
TZNAME:CET
DTSTART:20271031T010000
END:STANDARD
END:VTIMEZONE
BEGIN:VEVENT
DTSTART;TZID=Europe/Berlin:20260210T180000
DTEND;TZID=Europe/Berlin:20260210T200000
DTSTAMP:20260419T212127
CREATED:20260130T114645Z
LAST-MODIFIED:20260130T114645Z
UID:73529-1770746400-1770753600@braunschweig-spiegel.de
SUMMARY:Bildungspolitischer Abend zum Thema „Berufsbildung“
DESCRIPTION:Eine starke Berufsbildung ist ein zentraler Baustein für Chancengerechtigkeit und Fachkräftesicherung in Niedersachsen\, sind sich die grünen Landtagsabgeordneten Swantje Schendel und Lena Nzume einig. Darum laden beide Politikerinnen am Dienstag\, 10. Februar um 18.00 Uhr zu einem Bildungspolitischen Abend in die Geschäftsstelle von  Bündnis 90/Die Grünen (Ägidienmarkt 13\, 38100 Braunschweig) ein. Gemeinsam mit Interessierten möchten sie die Frage zu diskutieren\, wie die berufliche Bildung in Niedersachsen gestärkt und besser an die Anforderungen einer sich wandelnden Arbeitswelt angepasst werden kann. Im Fokus der Veranstaltung stehen des Weiteren aktuelle Herausforderungen der dualen Ausbildung\, die Attraktivität beruflicher Bildungswege sowie politische Handlungsmöglichkeiten auf Landesebene. Um Anmeldung per E-Mail an regionalbuero.schendel@lt.niedersachsen.de wird gebeten.\nDie Braunschweigerin Swantje Schendel ist Sprecherin für Sozialpolitik\, Queerpolitik\, Kinder\, Jugend\, Familie und Senior*innen\, Lena Nzume aus Oldenburg ist Sprecherin für Bildungspolitik der Fraktion Bündnis 90/Die Grünen im Landtag Niedersachsen. Schendel war vor ihrer Abgeordnetentätigkeit als Lehrkraft im Schuldienst\, Nzume als Wissenschaftliche Mitarbeiterin am Institut für Pädagogik der Carl von Ossietzky Universität Oldenburg tätig \nKontakt:\nSwantje Schendel MdL\nMail: swantje.schendel@lt.niedersachsen.de\nBüro: 0511/3030 3331\nPressefotos: © Hey Elli Fotografie https://swantjeschendel.de/presse/
URL:https://braunschweig-spiegel.de/termin/bildungspolitischer-abend-zum-thema-berufsbildung/
LOCATION:Geschäftsstelle des Kreisverbandes Braunschweig BÜNDNIS 90/DIE GRÜNEN\, Ägidienmarkt 13\, Braunschweig\, 38100
END:VEVENT
BEGIN:VEVENT
DTSTART;TZID=Europe/Berlin:20260210T190000
DTEND;TZID=Europe/Berlin:20260210T210000
DTSTAMP:20260419T212127
CREATED:20260202T185855Z
LAST-MODIFIED:20260202T185855Z
UID:73678-1770750000-1770757200@braunschweig-spiegel.de
SUMMARY:China: Neuer Hauptfeind des Westens?
DESCRIPTION:Zwischen 1978\, dem Beginn der Reformpolitik Deng Xiaopings\, und dem Amtsantritt Xi Jinpings im Jahr 2013 ist das Bruttoinlandsprodukt Chinas um mehr als das 64-fache gestiegen. Mehr als 800 Millionen Menschen wurden aus der Armut geholt. Allerdings werden die globalen Ambitionen durch die innenpolitischen Realitäten gebremst\, denn China ist längst noch kein reiches Industrieland mit einem entwickelten Sozialsystem. Angesichts der massiven sozialen und politischen Widersprüche ist die von der chinesischen Regierung angestrebte „common prosperity“ noch ein fernes Ziel. Nach Staats- und Parteichef Xi Jinping will das Land das „Jahrhundert der Erniedrigung“ durch die westlichen Kolonialmächte hinter sich lassen und mit „gemeinsamem Wohlstand“ im Inneren „der Welt auf Augenhöhe begegnen“. Wie werden wir darauf reagieren?\nReferent: Wolfgang Müller hat lange Jahre in der IG Metall Bayern den Siemens-Konzern und die Auto- und Zulieferindustrie betreut. Zuvor war er Software-Entwickler bei US-Computerkonzernen. Er lebte mehrere Jahre in Beijing.
URL:https://braunschweig-spiegel.de/termin/china-neuer-hauptfeind-des-westens/
LOCATION:Franziskussaal\, Alter Zeughof 2/3\, Braunschweig
END:VEVENT
END:VCALENDAR