BEGIN:VCALENDAR
VERSION:2.0
PRODID:-//Braunschweig Spiegel - ECPv6.15.20//NONSGML v1.0//EN
CALSCALE:GREGORIAN
METHOD:PUBLISH
X-ORIGINAL-URL:https://braunschweig-spiegel.de
X-WR-CALDESC:Veranstaltungen für Braunschweig Spiegel
REFRESH-INTERVAL;VALUE=DURATION:PT1H
X-Robots-Tag:noindex
X-PUBLISHED-TTL:PT1H
BEGIN:VTIMEZONE
TZID:Europe/Berlin
BEGIN:DAYLIGHT
TZOFFSETFROM:+0100
TZOFFSETTO:+0200
TZNAME:CEST
DTSTART:20250330T010000
END:DAYLIGHT
BEGIN:STANDARD
TZOFFSETFROM:+0200
TZOFFSETTO:+0100
TZNAME:CET
DTSTART:20251026T010000
END:STANDARD
BEGIN:DAYLIGHT
TZOFFSETFROM:+0100
TZOFFSETTO:+0200
TZNAME:CEST
DTSTART:20260329T010000
END:DAYLIGHT
BEGIN:STANDARD
TZOFFSETFROM:+0200
TZOFFSETTO:+0100
TZNAME:CET
DTSTART:20261025T010000
END:STANDARD
BEGIN:DAYLIGHT
TZOFFSETFROM:+0100
TZOFFSETTO:+0200
TZNAME:CEST
DTSTART:20270328T010000
END:DAYLIGHT
BEGIN:STANDARD
TZOFFSETFROM:+0200
TZOFFSETTO:+0100
TZNAME:CET
DTSTART:20271031T010000
END:STANDARD
END:VTIMEZONE
BEGIN:VEVENT
DTSTART;TZID=Europe/Berlin:20260204T100000
DTEND;TZID=Europe/Berlin:20260204T180000
DTSTAMP:20260419T212122
CREATED:20260127T124714Z
LAST-MODIFIED:20260127T124714Z
UID:73471-1770199200-1770228000@braunschweig-spiegel.de
SUMMARY:Studieninformationstag der Hochschule für Bildende Künste Braunschweig
DESCRIPTION:Schülerinnen\, Schüler und Studieninteressierte\, die sich für Kunst interessieren\, können am 4. Februar durch die Räume der Hochschule für Bildende Künste schlendern: Beim Studieninformationstag bekommen Interessierte viele Informationen rund um das Bachelor- und Diplomstudienangebot\, können an Workshops teilnehmen\, sich Tipps holen\, wie die eigene Bewerbungsmappe gestaltet sein könnte\, und einen Einblick in den Studienalltag erhalten. Bis zum 13. Februar stellen zudem noch sieben internationale Stipendiatinnen und Stipendiaten der Hochschule für bildende Künste ihre Abschlussprojekte unter dem Motto „after movement\, after matter“ in der Montagehalle der Hochschule vor. \nIn allen Studiengängen werden Studiengangporträts und Führungen angeboten. \n\nWorkshops in den Werkstätten\n\nHinweis: Für die Teilnahme ist eine vorherige Anmeldung über studienberatung@hbk-bs.de notwendig. \nFotostudio (jeweils 6 Personen)\nTermin 1: 10:30 – 12:00 Uhr in der Werkstatt Fotostudio\nTermin 2: 13:00 – 14:30 Uhr in der Werkstatt Fotostudio \nKeramik (10 Personen)\nTermin: 14:00 – 17:00 Uhr in der Keramik-Werkstatt \nInfos zur Arbeit mit Bleilettern – Handsatz und Buchdruck (jeweils 10 Personen)\nTermin 1: 11:00 – 11:30 Uhr in der Werkstatt Typografie\nTermin 2: 13:00 – 13:30 Uhr in der Werkstatt Typografie\nTermin 3: 15:00 – 15:30 Uhr in der Werkstatt Typografie \nMalerei (12 Personen)\nTermin: 15:00 – 18:00 Uhr in der Werkstatt Maltechnik
URL:https://braunschweig-spiegel.de/termin/studieninformationstag-der-hochschule-fuer-bildende-kuenste-braunschweig/
LOCATION:Campus der Hochschule für Bildende Künste
END:VEVENT
BEGIN:VEVENT
DTSTART;TZID=Europe/Berlin:20260204T150000
DTEND;TZID=Europe/Berlin:20260204T170000
DTSTAMP:20260419T212122
CREATED:20260130T135157Z
LAST-MODIFIED:20260130T135413Z
UID:73552-1770217200-1770224400@braunschweig-spiegel.de
SUMMARY:Gedankengänge und Lebenswege - Alex Aßmann über Andreas Baader und Gudrun Ensslin
DESCRIPTION:„Mittwochnachmittag an St. Katharinen“ setzt seine Reise durch “Gedankengänge und Lebenswege” am 4.2.2026 mit einem Vortrag fort\, den Dr. Alex Aßmann über Andreas Baader und Gudrun Ensslin halten wird\, Beginn um 15 Uhr im Gemeindehaus von St. Katharinen (Hagenmarkt\, Braunschweig). Als führende Mitglieder der “Roten Armee Fraktion” gehörten sie zu den Drahtziehern der Attentate und Morde im Deutschen Herbst der 1970er Jahre. Dr. Aßmann hat als Erziehungswissenschaftler an der Universität Göttingen mit Schwerpunkt u.a. in Biografik intensiv zur Pfarrerstochter Ensslin als auch zum Mitgbegründer der “RAF” Baader recherchiert und publiziert. Er wird an diesem Nachmittag aus seinem 2025 erschienen Buch “Im Gefängnis frei” vortragen. Der Vortrag wird als Video-Schalte stattfinden. Kaffee und Kuchen werden gereicht\, der Eintritt in die kirchlich und musikalisch gerahmte Veranstaltung ist frei und eine Spende wird erbeten.
URL:https://braunschweig-spiegel.de/termin/gedankengaenge-und-lebenswege-alex-assmann-ueber-andreas-baader-und-gudrun-ensslin/
LOCATION:Gemeindehaus von St. Katharinen\, Hagenmarkt\,\, Braunschweig
END:VEVENT
BEGIN:VEVENT
DTSTART;TZID=Europe/Berlin:20260204T153000
DTEND;TZID=Europe/Berlin:20260204T180000
DTSTAMP:20260419T212122
CREATED:20251029T132322Z
LAST-MODIFIED:20251029T132322Z
UID:71858-1770219000-1770228000@braunschweig-spiegel.de
SUMMARY:"Gemeinsam digital" - Studierende helfen älteren Menschen bei Fragen rund um Tablet\, Handy und Co.
DESCRIPTION:04. Februar 2026\, 15:30 -18:00 Uhr\, Campus Lounge\, Mühlenpfordtstraße 4/5\, 38106 Braunschweig (Eingang über: Wendenmaschstraße) \nDie Bürgerstiftung Braunschweig und die Technische Universität Braunschweig setzen ihr Kooperationsformat mit „Gemeinsam Digital“ im Winterhalbjahr fort. Das Angebot richtet sich an alle\, die im digitalen Alltag Unterstützung suchen. Studierende helfen vor allem älteren Menschen bei technischen Fragen und Problemen rund um Smartphone\, Tablet und digitale Anwendungen – gemeinsam mit- und voneinander lernen. Eine Anmeldung ist nicht erforderlich\, die Teilnahme ist kostenlos.
URL:https://braunschweig-spiegel.de/termin/gemeinsam-digital-studierende-helfen-aelteren-menschen-bei-fragen-rund-um-tablet-handy-und-co-3/
END:VEVENT
END:VCALENDAR