BEGIN:VCALENDAR
VERSION:2.0
PRODID:-//Braunschweig Spiegel - ECPv6.15.20//NONSGML v1.0//EN
CALSCALE:GREGORIAN
METHOD:PUBLISH
X-ORIGINAL-URL:https://braunschweig-spiegel.de
X-WR-CALDESC:Veranstaltungen für Braunschweig Spiegel
REFRESH-INTERVAL;VALUE=DURATION:PT1H
X-Robots-Tag:noindex
X-PUBLISHED-TTL:PT1H
BEGIN:VTIMEZONE
TZID:Europe/Berlin
BEGIN:DAYLIGHT
TZOFFSETFROM:+0100
TZOFFSETTO:+0200
TZNAME:CEST
DTSTART:20250330T010000
END:DAYLIGHT
BEGIN:STANDARD
TZOFFSETFROM:+0200
TZOFFSETTO:+0100
TZNAME:CET
DTSTART:20251026T010000
END:STANDARD
BEGIN:DAYLIGHT
TZOFFSETFROM:+0100
TZOFFSETTO:+0200
TZNAME:CEST
DTSTART:20260329T010000
END:DAYLIGHT
BEGIN:STANDARD
TZOFFSETFROM:+0200
TZOFFSETTO:+0100
TZNAME:CET
DTSTART:20261025T010000
END:STANDARD
BEGIN:DAYLIGHT
TZOFFSETFROM:+0100
TZOFFSETTO:+0200
TZNAME:CEST
DTSTART:20270328T010000
END:DAYLIGHT
BEGIN:STANDARD
TZOFFSETFROM:+0200
TZOFFSETTO:+0100
TZNAME:CET
DTSTART:20271031T010000
END:STANDARD
END:VTIMEZONE
BEGIN:VEVENT
DTSTART;TZID=Europe/Berlin:20260201T170000
DTEND;TZID=Europe/Berlin:20260201T190000
DTSTAMP:20260419T212122
CREATED:20260108T160226Z
LAST-MODIFIED:20260108T160226Z
UID:73133-1769965200-1769972400@braunschweig-spiegel.de
SUMMARY:„HELDIN“ - Film des Jahres 2025: Sondervorführung im Astor Filmtheater
DESCRIPTION:„HELDIN“ ist „Film des Jahres 2025\nZur Sondervorführung und Auszeichnung als BESTER FILM DES JAHRES 2025 der Braunschweiger Zeitung- Filmpremieren kommt die Autorin der Buchvorlage- Madeline Calvelage ins Astor Filmtheater \nMit der Note 1\,35 haben die Premierenbesucher die Verfilmung des Buches „Unser Beruf ist nicht das Problem. Es sind die Umstände.“ als BESTEN FILM DES JAHRES 2025 gekürt. Zu der Sondervorführung am Sonntag\, 01.02. um 17:00 Uhr hat sich die Autorin der Buchvorlage\, Madeline Calvelage\, angekündigt.  \nInhalt: Floria (Leonie Benesch) arbeitet mit viel Leidenschaft und Professionalität als Pflegefachfrau in der Chirurgie eines Schweizer Krankenhauses. Aber dann passiert ihr ein verhängnisvoller Fehler und die Schicht droht völlig aus dem Ruder zu laufen. Ein nervenzerrender Wettlauf gegen die Zeit beginnt. Petra Volpe greift mit HELDIN ein hochaktuelles Thema auf. Der Film ist zugleich eine respektvolle Hommage auf alle Pflegekräfte sowie ein packendes Plädoyer für Menschlichkeit und Engagement. Er zeigt nicht zuletzt auf\, wie essenziell eine gute Betreuung im Krankheitsfall für uns alle ist. Leonie Benesch beeindruckt mit ihrer kraftvollen und fesselnden Darstellung\, die das Kinopublikum atemlos hinterlässt und es noch lange nach Filmende begleitet. \nStimmen bei der Braunschweig- Premiere: „Dieser Film zeigt nicht nur die Missstände in der Pflege auf\, sondern auch das Besondere an diesem tollen Beruf.“ (Melanie Borchers\, 45)\n„Ich komme selbst aus der Pflege. Seit inzwischen 22 Jahren dabei. Der Film spiegelt unseren Alltag wider! Leider! Pflege betrifft uns alle irgendwann. Dafür sollten wir uns alle gemeinsam einsetzen! Jetzt und NICHT irgendwann!!!! (Jens Eilmes\, 39) \n  \nAutorin Madeline Calvelage: „In meinem ersten Buch „Unser Beruf ist nicht das Problem. Es sind die Umstände“ erzähle ich in Form eines autobiografischen Romans von meinen Werdegang als Krankenpflegerin und möchte somit auf die Lage von uns Pflegekräften aufmerksam machen. Mein Ziel ist es\, jedem einen Einblick in unsere Arbeitswelt zu geben und zu zeigen\, welche Patienten\, Probleme und Herausforderungen uns begleiten – vor allem aber welche Auswirkungen der Pflegenotstand auf uns selbst und unseren so lebendigen Beruf hat. \n 
URL:https://braunschweig-spiegel.de/termin/heldin-film-des-jahres-2025-sondervorfuehrung-im-astor-filmtheater/
LOCATION:Astor Filmtheater\, Lange Str. 60\, Braunschweig\, 38100
ORGANIZER;CN="Astor Filmtheater":MAILTO:f.oppermann@astor-filmtheater.de
END:VEVENT
END:VCALENDAR