BEGIN:VCALENDAR
VERSION:2.0
PRODID:-//Braunschweig Spiegel - ECPv6.15.20//NONSGML v1.0//EN
CALSCALE:GREGORIAN
METHOD:PUBLISH
X-WR-CALNAME:Braunschweig Spiegel
X-ORIGINAL-URL:https://braunschweig-spiegel.de
X-WR-CALDESC:Veranstaltungen für Braunschweig Spiegel
REFRESH-INTERVAL;VALUE=DURATION:PT1H
X-Robots-Tag:noindex
X-PUBLISHED-TTL:PT1H
BEGIN:VTIMEZONE
TZID:Europe/Berlin
BEGIN:DAYLIGHT
TZOFFSETFROM:+0100
TZOFFSETTO:+0200
TZNAME:CEST
DTSTART:20250330T010000
END:DAYLIGHT
BEGIN:STANDARD
TZOFFSETFROM:+0200
TZOFFSETTO:+0100
TZNAME:CET
DTSTART:20251026T010000
END:STANDARD
BEGIN:DAYLIGHT
TZOFFSETFROM:+0100
TZOFFSETTO:+0200
TZNAME:CEST
DTSTART:20260329T010000
END:DAYLIGHT
BEGIN:STANDARD
TZOFFSETFROM:+0200
TZOFFSETTO:+0100
TZNAME:CET
DTSTART:20261025T010000
END:STANDARD
BEGIN:DAYLIGHT
TZOFFSETFROM:+0100
TZOFFSETTO:+0200
TZNAME:CEST
DTSTART:20270328T010000
END:DAYLIGHT
BEGIN:STANDARD
TZOFFSETFROM:+0200
TZOFFSETTO:+0100
TZNAME:CET
DTSTART:20271031T010000
END:STANDARD
END:VTIMEZONE
BEGIN:VEVENT
DTSTART;TZID=Europe/Berlin:20260124T140000
DTEND;TZID=Europe/Berlin:20260124T170000
DTSTAMP:20260419T230710
CREATED:20260119T125248Z
LAST-MODIFIED:20260119T125248Z
UID:73301-1769263200-1769274000@braunschweig-spiegel.de
SUMMARY:Lerntag: „Nationalsozialistischer Antiziganismus und seine Kontinuität“
DESCRIPTION:Der Arbeitskreis Andere Geschichte e.V. veranstaltet im Vorfeld des Gedenktags an die Opfer des Nationalsozialismus (27.1.) wieder einen bereits seit vielen Jahren etablierten „Lerntag“ und lädt am Samstag\, 24. Januar 2026 von 14.00 bis 17.00 Uhr zu der diesjährigen Veranstaltung mit dem Titel „Nationalsozialistischer Antiziganismus und seine Kontinuität“ in die Gedenkstätte KZ-Außenlager Braunschweig Schillstraße (Schillstraße 25\, 38102 Braunschweig) ein\, um gemeinsam zu lernen\, zu reflektieren und zu diskutieren.\nDie Veranstaltung wird in diesem Jahr inhaltlich von Lukas Engelmeier gestaltet. Der Referent ist wissenschaftlicher Mitarbeiter der Kompetenzstelle gegen Antiziganismus der Stiftung niedersächsische Gedenkstätten. Antiziganismus ist der spezifische Rassismus gegen Sinti* und Roma* oder gegen Menschen\, die als sogenannte „Zigeuner“ stigmatisiert werden. Er ist in Europa seit Jahrhunderten weit verbreitet und tief im kollektiven Bewusstsein verankert. Im rassistischen Genozid der Nationalsozialisten wurden etwa eine halbe Million Sinti* und Roma* ermordet.\nBei der in Teilen als Workshop konzipierten Veranstaltung wird es um die Spezifik des nationalsozialistischen Antiziganismus gehen und\, wie dieser einerseits an frühere Formen der Stigmatisierung anknüpfte sowie andererseits bis heute Denk- und Handlungsmuster sowie Institutionen prägt. Nach einem methodischen Einstieg und einer anschließenden inhaltlichen Einführung in das Thema wird auf Grundlage ausgewählter Quellen die Gelegenheit gegeben\, die Frage von Kontinuität und Diskontinuität des Nationalsozialismus am Beispiel des Antiziganismus zu vertiefen und zu besprechen.\nEine Teilnahme an der Veranstaltung ist kostenfrei. Kontakt: gedenkstaette@schillstrasse.de
URL:https://braunschweig-spiegel.de/termin/lerntag-nationalsozialistischer-antiziganismus-und-seine-kontinuitaet/
LOCATION:Gedenkstätte KZ-Außenlager Braunschweig\, Schillstraße 25\, Braunschweig\, 38102
END:VEVENT
END:VCALENDAR