BEGIN:VCALENDAR
VERSION:2.0
PRODID:-//Braunschweig Spiegel - ECPv6.15.20//NONSGML v1.0//EN
CALSCALE:GREGORIAN
METHOD:PUBLISH
X-ORIGINAL-URL:https://braunschweig-spiegel.de
X-WR-CALDESC:Veranstaltungen für Braunschweig Spiegel
REFRESH-INTERVAL;VALUE=DURATION:PT1H
X-Robots-Tag:noindex
X-PUBLISHED-TTL:PT1H
BEGIN:VTIMEZONE
TZID:Europe/Berlin
BEGIN:DAYLIGHT
TZOFFSETFROM:+0100
TZOFFSETTO:+0200
TZNAME:CEST
DTSTART:20250330T010000
END:DAYLIGHT
BEGIN:STANDARD
TZOFFSETFROM:+0200
TZOFFSETTO:+0100
TZNAME:CET
DTSTART:20251026T010000
END:STANDARD
BEGIN:DAYLIGHT
TZOFFSETFROM:+0100
TZOFFSETTO:+0200
TZNAME:CEST
DTSTART:20260329T010000
END:DAYLIGHT
BEGIN:STANDARD
TZOFFSETFROM:+0200
TZOFFSETTO:+0100
TZNAME:CET
DTSTART:20261025T010000
END:STANDARD
BEGIN:DAYLIGHT
TZOFFSETFROM:+0100
TZOFFSETTO:+0200
TZNAME:CEST
DTSTART:20270328T010000
END:DAYLIGHT
BEGIN:STANDARD
TZOFFSETFROM:+0200
TZOFFSETTO:+0100
TZNAME:CET
DTSTART:20271031T010000
END:STANDARD
END:VTIMEZONE
BEGIN:VEVENT
DTSTART;TZID=Europe/Berlin:20260115T190000
DTEND;TZID=Europe/Berlin:20260115T210000
DTSTAMP:20260419T231509
CREATED:20260107T085009Z
LAST-MODIFIED:20260107T091013Z
UID:73069-1768503600-1768510800@braunschweig-spiegel.de
SUMMARY:Friedensgespräch mit Dr. Hauke Ritz: „Krise des Westens - Chance für eine Neuerfindung Europas?“
DESCRIPTION:(Hauke Ritz\, Foto: privat) \nHauke Ritz analysiert den globalen Umbruch\, den Verlust westlicher Dominanz und das Entstehen einer multipolaren Weltordnung. Europa müsse seine Rolle neu bestimmen – dies setze eine Auseinandersetzung mit den Ursachen des Ukrainekriegs\, dem Scheitern der Friedenschance von 1989 sowie dem Nord-Süd-Konflikt voraus. Ritz plädiert für eine kulturell fundierte Neuerfindung Europas als Grundlage politischer und ökonomischer Souveränität. Der promovierte Philosoph lehrte unter anderem in Gießen und Moskau\, war für den DAAD tätig und ist Autor mehrerer viel beachteter Bücher\, darunter „Warum der Weltfrieden von Deutschland abhängt“ und gemeinsam mit der Politikwissenschaftlerin Ulrike Guérot „Endspiel Europa“.\nIm Anschluss an die Vorträge beantworten die Referierenden Fragen aus dem Publikum. Der Eintritt ist frei\, Spenden zur Finanzierung der Friedensgespräche sind willkommen. Aufgrund begrenzter Plätze wird eine Anmeldung unter goslarer.friedensgespraeche@posteo.de dringend empfohlen.
URL:https://braunschweig-spiegel.de/termin/friedensgespraeche-goslar-mit-dr-hauke-ritz-krise-des-westens-chance-fuer-eine-neuerfindung-europas/
LOCATION:Kulturmarktplatz\, Kulturmarktplatz Goslar\, Goslar\, 38640
ORGANIZER;CN="Goslarer Friedensb%C3%BCndnis":MAILTO:friedensbuendnis.goslar@posteo.de
END:VEVENT
END:VCALENDAR