BEGIN:VCALENDAR
VERSION:2.0
PRODID:-//Braunschweig Spiegel - ECPv6.15.20//NONSGML v1.0//EN
CALSCALE:GREGORIAN
METHOD:PUBLISH
X-WR-CALNAME:Braunschweig Spiegel
X-ORIGINAL-URL:https://braunschweig-spiegel.de
X-WR-CALDESC:Veranstaltungen für Braunschweig Spiegel
REFRESH-INTERVAL;VALUE=DURATION:PT1H
X-Robots-Tag:noindex
X-PUBLISHED-TTL:PT1H
BEGIN:VTIMEZONE
TZID:Europe/Berlin
BEGIN:DAYLIGHT
TZOFFSETFROM:+0100
TZOFFSETTO:+0200
TZNAME:CEST
DTSTART:20250330T010000
END:DAYLIGHT
BEGIN:STANDARD
TZOFFSETFROM:+0200
TZOFFSETTO:+0100
TZNAME:CET
DTSTART:20251026T010000
END:STANDARD
BEGIN:DAYLIGHT
TZOFFSETFROM:+0100
TZOFFSETTO:+0200
TZNAME:CEST
DTSTART:20260329T010000
END:DAYLIGHT
BEGIN:STANDARD
TZOFFSETFROM:+0200
TZOFFSETTO:+0100
TZNAME:CET
DTSTART:20261025T010000
END:STANDARD
BEGIN:DAYLIGHT
TZOFFSETFROM:+0100
TZOFFSETTO:+0200
TZNAME:CEST
DTSTART:20270328T010000
END:DAYLIGHT
BEGIN:STANDARD
TZOFFSETFROM:+0200
TZOFFSETTO:+0100
TZNAME:CET
DTSTART:20271031T010000
END:STANDARD
END:VTIMEZONE
BEGIN:VEVENT
DTSTART;TZID=Europe/Berlin:20260110T190000
DTEND;TZID=Europe/Berlin:20260110T230000
DTSTAMP:20260419T230711
CREATED:20260105T120452Z
LAST-MODIFIED:20260105T120452Z
UID:72982-1768071600-1768086000@braunschweig-spiegel.de
SUMMARY:Live aus der Metropolitan Opera New York im Astor Filmtheater: I PURITANI – BELLINI
DESCRIPTION:Mit Vincenzo Bellinis I puritani (Die Puritaner und die Kavaliere) präsentiert sich am 10. Januar 2026 eine der glanzvollsten Belcanto-Opern des Repertoires live im Kino. Berühmt für ihre schwelgerischen Melodien\, anspruchsvollen Koloraturen und ein virtuoses Gesangsfeuerwerk\, entfaltet Bellinis letztes Bühnenwerk eine ergreifende Mischung aus musikalischer Eleganz und emotionaler Intensität.\nSamstag\, 10.01.2025 um 19:00 – ca. 22:50 Uhr\nGesungen in Italienisch (mit deutschen Untertiteln)\nDirigent: Marco Armiliato; Inszenierung: Charles Edwards\nSänger/innen: Lisette Oropesa\, Lawrence Brownlee\, Artur Ruciński\, Christian Van Horn\nDie Handlung führt ins England des 17. Jahrhunderts\, zur Zeit des Bürgerkriegs zwischen Royalisten und Puritanern. Im Zentrum steht die junge Elvira\, deren Liebe zu dem Royalisten Arturo durch politische Gegensätze\, Missverständnisse und Loyalitätskonflikte bedroht wird. Zwischen Hoffnung und Verzweiflung schwankend\, wird ihre Beziehung auf eine harte Probe gestellt\, bis sich das Schicksal schließlich doch zugunsten der Liebenden wendet. Bellinis Musik zeichnet sich durch eine außergewöhnliche lyrische Schönheit und expressive Feinheit aus. In I puritani verbinden sich intime Gefühle mit großen dramatischen Bögen zu einem Opernerlebnis von überwältigender Strahlkraft. Diese Kinoübertragung verspricht einen Abend voller Emotion\, vokaler Brillanz und zeitloser Belcanto-Kunst.
URL:https://braunschweig-spiegel.de/termin/live-aus-der-metropolitan-opera-new-york-im-astor-filmtheater-i-puritani-bellini/
LOCATION:Astor Filmtheater\, Lange Str. 60\, Braunschweig\, 38100
END:VEVENT
END:VCALENDAR