BEGIN:VCALENDAR
VERSION:2.0
PRODID:-//Braunschweig Spiegel - ECPv6.15.20//NONSGML v1.0//EN
CALSCALE:GREGORIAN
METHOD:PUBLISH
X-WR-CALNAME:Braunschweig Spiegel
X-ORIGINAL-URL:https://braunschweig-spiegel.de
X-WR-CALDESC:Veranstaltungen für Braunschweig Spiegel
REFRESH-INTERVAL;VALUE=DURATION:PT1H
X-Robots-Tag:noindex
X-PUBLISHED-TTL:PT1H
BEGIN:VTIMEZONE
TZID:Europe/Berlin
BEGIN:DAYLIGHT
TZOFFSETFROM:+0100
TZOFFSETTO:+0200
TZNAME:CEST
DTSTART:20240331T010000
END:DAYLIGHT
BEGIN:STANDARD
TZOFFSETFROM:+0200
TZOFFSETTO:+0100
TZNAME:CET
DTSTART:20241027T010000
END:STANDARD
BEGIN:DAYLIGHT
TZOFFSETFROM:+0100
TZOFFSETTO:+0200
TZNAME:CEST
DTSTART:20250330T010000
END:DAYLIGHT
BEGIN:STANDARD
TZOFFSETFROM:+0200
TZOFFSETTO:+0100
TZNAME:CET
DTSTART:20251026T010000
END:STANDARD
BEGIN:DAYLIGHT
TZOFFSETFROM:+0100
TZOFFSETTO:+0200
TZNAME:CEST
DTSTART:20260329T010000
END:DAYLIGHT
BEGIN:STANDARD
TZOFFSETFROM:+0200
TZOFFSETTO:+0100
TZNAME:CET
DTSTART:20261025T010000
END:STANDARD
END:VTIMEZONE
BEGIN:VEVENT
DTSTART;TZID=Europe/Berlin:20251229T173000
DTEND;TZID=Europe/Berlin:20251229T230000
DTSTAMP:20260420T002914
CREATED:20251201T152133Z
LAST-MODIFIED:20251201T152133Z
UID:72566-1767029400-1767049200@braunschweig-spiegel.de
SUMMARY:Nils Wogram & Mathias Claus: Weihnachtsjazz - Ein Klassiker in Braunschweig
DESCRIPTION:Nis Wogram und Mathias Claus. Pressefoto lizenzfrei\nDoppelkonzert am Montag 29.12.2025 um 17.30 und 20.30 Uhr. \nZwischen den Jahren bietet das KufA Haus einen besonderen Weihnachtsleckerbissen für alle Jazz begeisterten und Mitglieder der Braunschweiger Jazz Community. Nils Wogramm einer der führenden europäischen Jazzposaunisten und Visionär des zeitgenössischen Jazz spielt zusammen mit seinem langjährigen Braunschweiger Konzertpartner Pianist Mathias Claus ein Doppelkonzert im KufA Haus. Konzerte wie sie in New Yorker Jazz Clubs üblich sind\, neben Prime Time auch ein frühabendlicher Termin. \nEin Klassiker im Braunschweiger Land – 19 Jahre Weihnachtsjazz – bezieht nun künftig Heimat im KufA Haus um die kulturelle Palette mit swingendem Duo Jazz aus Braunschweig zu ergänzen. \nEinstieg und Basis bleibt in dieser Besetzung die komplette Jazz Tradition mit Blues und Gospel Stomps\, handselektierten swingenden Lieblingsperlen der Musiker von Ellington\, Cole Porter und Co bis zu lyrischem Contemporary Jazz\, impulsiven Salsa Rhythmen oder gelegentlich Eigenkompositionen. \nNils Wogram – Posaune\nMathias Claus – Piano\, Organ & Keyboards\, Vocals\, Finger Druming\, Electronics \nInfos: \nNILS WOGRAM – Träger des deutschen Jazzpreises und des Jazz Echo „Best Brass Instrumentalist Germany“. Musikstudium in Köln und USA. Weltweite Tourneen bis nach Asien\, eigenes CD Label mit wegweisenden kreativen Jazz Produktionen. Internationale Presseresonanz.\nhttps://nilswogram.com \nMATHIAS CLAUS – Langjähriger Jazzpiano Dozent der städtischen  Musikschule Braunschweig.  Internationale Jazz Solo Piano Festivals München\, Berlin und Hamburg und NDR Jazz Solo Piano Produktionen. Musikstudium in Hamburg sowie Studienkurse am Berklee College of Music in Boston USA.\nhttps://www.mathiasclaus.com
URL:https://braunschweig-spiegel.de/termin/nils-wogram-mathias-claus-weihnachtsjazz-ein-klassiker-in-braunschweig/
END:VEVENT
END:VCALENDAR