BEGIN:VCALENDAR
VERSION:2.0
PRODID:-//Braunschweig Spiegel - ECPv6.15.20//NONSGML v1.0//EN
CALSCALE:GREGORIAN
METHOD:PUBLISH
X-WR-CALNAME:Braunschweig Spiegel
X-ORIGINAL-URL:https://braunschweig-spiegel.de
X-WR-CALDESC:Veranstaltungen für Braunschweig Spiegel
REFRESH-INTERVAL;VALUE=DURATION:PT1H
X-Robots-Tag:noindex
X-PUBLISHED-TTL:PT1H
BEGIN:VTIMEZONE
TZID:Europe/Berlin
BEGIN:DAYLIGHT
TZOFFSETFROM:+0100
TZOFFSETTO:+0200
TZNAME:CEST
DTSTART:20240331T010000
END:DAYLIGHT
BEGIN:STANDARD
TZOFFSETFROM:+0200
TZOFFSETTO:+0100
TZNAME:CET
DTSTART:20241027T010000
END:STANDARD
BEGIN:DAYLIGHT
TZOFFSETFROM:+0100
TZOFFSETTO:+0200
TZNAME:CEST
DTSTART:20250330T010000
END:DAYLIGHT
BEGIN:STANDARD
TZOFFSETFROM:+0200
TZOFFSETTO:+0100
TZNAME:CET
DTSTART:20251026T010000
END:STANDARD
BEGIN:DAYLIGHT
TZOFFSETFROM:+0100
TZOFFSETTO:+0200
TZNAME:CEST
DTSTART:20260329T010000
END:DAYLIGHT
BEGIN:STANDARD
TZOFFSETFROM:+0200
TZOFFSETTO:+0100
TZNAME:CET
DTSTART:20261025T010000
END:STANDARD
END:VTIMEZONE
BEGIN:VEVENT
DTSTART;TZID=Europe/Berlin:20251220T110000
DTEND;TZID=Europe/Berlin:20251220T140000
DTSTAMP:20260420T003740
CREATED:20251204T161816Z
LAST-MODIFIED:20251204T161816Z
UID:72650-1766228400-1766239200@braunschweig-spiegel.de
SUMMARY:Großer Kino-Flohmarkt im ASTOR FILMTHEATER
DESCRIPTION:Großer Kino-Flohmarkt im ASTOR FILMTHEATER am Samstag\, 20.12.2025 zugunsten der „WegGefährten\, Elternhilfe zur Unterstützung tumorkranker Kinder Braunschweig e.V.“ und der von dem Verein geförderten Klinikclowns \nAm Samstag\, 20.12.2025 findet im ASTOR FILMTHEATER Braunschweig von 11:00 bis 14:00 Uhr wieder der Kinoflohmarkt statt. \nAlle Kinobegeisterten bekommen dann wieder die Gelegenheit\, besondere Schnäppchen oder originale Kinodevotionalien zu ergattern: von Plakaten\, lebensgroßen Aufstellern (u.a. AVATAR: FIRE AND ASH/ WICKED TEIL 2/ ZOOMANIA 2 / STROMBERG – WIEDER ALLES WIE IMMER.) Filmbannern bis zu Filmfotos ist fast alles zu finden\, was in den letzten Monaten über Braunschweigs Leinwände geflimmert ist.\nWie immer wird der Erlös für einen guten Zweck gespendet. \nDieses Mal geht die Sammlung an die WEGGEFÄHRTEN BRAUNSCHWEIG. \nDer Elternverein bietet Hilfe und Unterstützung für krebskranke Kinder und ihre Familien\, die in der Klinik für Kinder- und Jugendmedizin des Städtischen Klinikums Braunschweig therapiert werden. Unter anderem unterstützt der Verein den Einsatz der Klinikclowns um den erkrankten Kindern ein Lächeln ins Gesicht zu zaubern. \nDas Astor Filmtheater freut sich den Verein und die Klinikclowns unterstützen zu können.
URL:https://braunschweig-spiegel.de/termin/grosser-kino-flohmarkt-im-astor-filmtheater/
END:VEVENT
END:VCALENDAR