BEGIN:VCALENDAR
VERSION:2.0
PRODID:-//Braunschweig Spiegel - ECPv6.15.20//NONSGML v1.0//EN
CALSCALE:GREGORIAN
METHOD:PUBLISH
X-ORIGINAL-URL:https://braunschweig-spiegel.de
X-WR-CALDESC:Veranstaltungen für Braunschweig Spiegel
REFRESH-INTERVAL;VALUE=DURATION:PT1H
X-Robots-Tag:noindex
X-PUBLISHED-TTL:PT1H
BEGIN:VTIMEZONE
TZID:Europe/Berlin
BEGIN:DAYLIGHT
TZOFFSETFROM:+0100
TZOFFSETTO:+0200
TZNAME:CEST
DTSTART:20240331T010000
END:DAYLIGHT
BEGIN:STANDARD
TZOFFSETFROM:+0200
TZOFFSETTO:+0100
TZNAME:CET
DTSTART:20241027T010000
END:STANDARD
BEGIN:DAYLIGHT
TZOFFSETFROM:+0100
TZOFFSETTO:+0200
TZNAME:CEST
DTSTART:20250330T010000
END:DAYLIGHT
BEGIN:STANDARD
TZOFFSETFROM:+0200
TZOFFSETTO:+0100
TZNAME:CET
DTSTART:20251026T010000
END:STANDARD
BEGIN:DAYLIGHT
TZOFFSETFROM:+0100
TZOFFSETTO:+0200
TZNAME:CEST
DTSTART:20260329T010000
END:DAYLIGHT
BEGIN:STANDARD
TZOFFSETFROM:+0200
TZOFFSETTO:+0100
TZNAME:CET
DTSTART:20261025T010000
END:STANDARD
END:VTIMEZONE
BEGIN:VEVENT
DTSTART;TZID=Europe/Berlin:20251215T163000
DTEND;TZID=Europe/Berlin:20251215T190000
DTSTAMP:20260420T015925
CREATED:20251203T115330Z
LAST-MODIFIED:20251203T115330Z
UID:72606-1765816200-1765825200@braunschweig-spiegel.de
SUMMARY:Informationsveranstaltung zum neuen Mühlenradführer inklusive Mühlenführung
DESCRIPTION:Foto: Angelika Geschke\nMo. 15. Dez. Beginn: 16:30 Uhr (Dauer: ca. 150 Minuten) \nTreffpunkt: Hauptstraße 3\, 38165 Lehre\nMühlen und Fahrräder hat man bisher nicht zwingend in einen Kontext gebracht. Das will der Mühlenradführer „Rechts und links vom Ringgleis – Einfach beflügelnd“ nun ändern. Mit einer 63 Kilometer langen Rundtour\, beginnend am Bahnhof Wolfenbüttel\, über das Ringgleis Braunschweig bis zur Windmühle in Wendhausen und über Weddel\, die Buchhorst und den Kleidersellerweg zurück nach Wolfenbüttel möchte der Verein Forum Industriekultur die Menschen einerseits zum Radfahren animieren\, andererseits\naber auch auf die industriekulturellen Schätze entlang des Weges aufmerksam machen. \nEin Höhepunkt entlang der Route ist die 1837 errichtete Mühle Wendhausen auf dem Dettmersberg\, wo der Verein Forum Industriekultur am 15. Dezember um 16:30 Uhr zu einer spannenden Führung durch die Mühle lädt. Nach der rund 90minütigen Besichtigung mit Erläuterungen der ausgebildeten Freiwilligen Müller Angelika und Thorsten Geschke wird der Vereinsvorsitzende Horst Splett den Mühlenradführer „Rechts und links vom Ringgleis – einfach beflügelnd“ vorstellen\, dazu gibt es Glühwein und Zeit für Gespräche über Mühlen\, Radtouren und das weite Feld der Industriekultur.\nLeitung: Horst Splett\nMax. Teilnehmerzahl: 15\nInfos und Anmeldung: https://www.eventbrite.de/e/1975961741761
URL:https://braunschweig-spiegel.de/termin/informationsveranstaltung-zum-neuen-muehlenradfuehrer-inklusive-muehlenfuehrung/
END:VEVENT
END:VCALENDAR