BEGIN:VCALENDAR
VERSION:2.0
PRODID:-//Braunschweig Spiegel - ECPv6.15.20//NONSGML v1.0//EN
CALSCALE:GREGORIAN
METHOD:PUBLISH
X-ORIGINAL-URL:https://braunschweig-spiegel.de
X-WR-CALDESC:Veranstaltungen für Braunschweig Spiegel
REFRESH-INTERVAL;VALUE=DURATION:PT1H
X-Robots-Tag:noindex
X-PUBLISHED-TTL:PT1H
BEGIN:VTIMEZONE
TZID:Europe/Berlin
BEGIN:DAYLIGHT
TZOFFSETFROM:+0100
TZOFFSETTO:+0200
TZNAME:CEST
DTSTART:20240331T010000
END:DAYLIGHT
BEGIN:STANDARD
TZOFFSETFROM:+0200
TZOFFSETTO:+0100
TZNAME:CET
DTSTART:20241027T010000
END:STANDARD
BEGIN:DAYLIGHT
TZOFFSETFROM:+0100
TZOFFSETTO:+0200
TZNAME:CEST
DTSTART:20250330T010000
END:DAYLIGHT
BEGIN:STANDARD
TZOFFSETFROM:+0200
TZOFFSETTO:+0100
TZNAME:CET
DTSTART:20251026T010000
END:STANDARD
BEGIN:DAYLIGHT
TZOFFSETFROM:+0100
TZOFFSETTO:+0200
TZNAME:CEST
DTSTART:20260329T010000
END:DAYLIGHT
BEGIN:STANDARD
TZOFFSETFROM:+0200
TZOFFSETTO:+0100
TZNAME:CET
DTSTART:20261025T010000
END:STANDARD
END:VTIMEZONE
BEGIN:VEVENT
DTSTART;TZID=Europe/Berlin:20251207T150000
DTEND;TZID=Europe/Berlin:20251207T170000
DTSTAMP:20260420T004844
CREATED:20251203T092138Z
LAST-MODIFIED:20251203T092138Z
UID:72594-1765119600-1765126800@braunschweig-spiegel.de
SUMMARY:Podiusmdiskussion: KI – Kunst\, Fiktion\, Wirklichkeit? (7.Dezember 2025\, 15 Uhr)
DESCRIPTION:Braunschweig. Die Ausstellung Kunst¹⁷ in der halle267 – städtische galerie braunschweig präsentiert im Dezember ein vielseitiges Veranstaltungsprogramm\, das Einblicke in aktuelle künstlerische Entwicklungen bietet und zentrale Fragen der Gegenwartskunst beleuchtet. \nKünstliche Intelligenz verändert die Kunstproduktion\, die Rolle von Künstler:innen und die\nWahrnehmung von Bildern – und sorgt zugleich für Faszination wie Vorbehalte. Künstliche\nIntelligenz hat längst Eingang in künstlerische Arbeitsprozesse wie auch in den Kunstbetrieb gefunden. Einer Befragung des bbk zufolge hatten bereits 42 Prozent der Künstler:innen eigene künstlerische Erfahrungen mit KI gesammelt – gleichzeitig bestehen erhebliche Vorbehalte gegenüber KI-generierten Bildwelten.\nEs diskutieren:\n• Dr. Yaoli Du\, Philosophin an der TU Braunschweig\, Schwerpunkt KI-Philosophie\n• Alexander Iskin\, Künstler aus Berlin\, der KI in seine künstlerische Praxis integriert\n• Dr. Wolfgang Ullrich\, Kunsthistoriker und Kulturwissenschaftler\, Herausgeber der Reihe\nDigitale Bildkulturen\n• Moderation: Dr. Vera Szöllösi-Brenig\, Journalistin\, Sprecherin AG Kunst der BSL und\nVertreterin von KiP – Kunst im Peiner Land e.V.
URL:https://braunschweig-spiegel.de/termin/podiusmdiskussion-ki-kunst-fiktion-wirklichkeit-7-dezember-2025-15-uhr/
END:VEVENT
BEGIN:VEVENT
DTSTART;TZID=Europe/Berlin:20251207T170000
DTEND;TZID=Europe/Berlin:20251207T183000
DTSTAMP:20260420T004844
CREATED:20251204T161331Z
LAST-MODIFIED:20251204T161331Z
UID:72647-1765126800-1765132200@braunschweig-spiegel.de
SUMMARY:Lieder zum Hören und Mitsingen im Dom
DESCRIPTION:Zum traditionellen „Quempas-Singen“ lädt die Braunschweiger Domsingschule am 2. Adventswochenende ein. \nLieder zum Hören und Mitsingen werden am Samstag\, 6.12. und Sonntag\, 7.12. jeweils um 17 Uhr im stimmungsvoll mit Kerzen beleuchteten Dom dargeboten. Den Höhepunkt bildet der aus den vier Himmelsrichtungen von den Kindern gesungene „Quempas“. Mitwirkende sind die Mädchen- und Jungenkantoreien\, die Kurrenden und die Jugendkantorei der Domsingschule. Der Eintritt ist frei.
URL:https://braunschweig-spiegel.de/termin/lieder-zum-hoeren-und-mitsingen-im-dom-2/
END:VEVENT
END:VCALENDAR