BEGIN:VCALENDAR
VERSION:2.0
PRODID:-//Braunschweig Spiegel - ECPv6.15.20//NONSGML v1.0//EN
CALSCALE:GREGORIAN
METHOD:PUBLISH
X-ORIGINAL-URL:https://braunschweig-spiegel.de
X-WR-CALDESC:Veranstaltungen für Braunschweig Spiegel
REFRESH-INTERVAL;VALUE=DURATION:PT1H
X-Robots-Tag:noindex
X-PUBLISHED-TTL:PT1H
BEGIN:VTIMEZONE
TZID:Europe/Berlin
BEGIN:DAYLIGHT
TZOFFSETFROM:+0100
TZOFFSETTO:+0200
TZNAME:CEST
DTSTART:20240331T010000
END:DAYLIGHT
BEGIN:STANDARD
TZOFFSETFROM:+0200
TZOFFSETTO:+0100
TZNAME:CET
DTSTART:20241027T010000
END:STANDARD
BEGIN:DAYLIGHT
TZOFFSETFROM:+0100
TZOFFSETTO:+0200
TZNAME:CEST
DTSTART:20250330T010000
END:DAYLIGHT
BEGIN:STANDARD
TZOFFSETFROM:+0200
TZOFFSETTO:+0100
TZNAME:CET
DTSTART:20251026T010000
END:STANDARD
BEGIN:DAYLIGHT
TZOFFSETFROM:+0100
TZOFFSETTO:+0200
TZNAME:CEST
DTSTART:20260329T010000
END:DAYLIGHT
BEGIN:STANDARD
TZOFFSETFROM:+0200
TZOFFSETTO:+0100
TZNAME:CET
DTSTART:20261025T010000
END:STANDARD
END:VTIMEZONE
BEGIN:VEVENT
DTSTART;TZID=Europe/Berlin:20251202T170000
DTEND;TZID=Europe/Berlin:20251202T190000
DTSTAMP:20260420T015745
CREATED:20251130T175341Z
LAST-MODIFIED:20251130T175341Z
UID:72537-1764694800-1764702000@braunschweig-spiegel.de
SUMMARY:Buchvorstellung „Bodo Kampmann – ein Künstlerleben in Braunschweig“
DESCRIPTION:Bärbel Mäkeler (bskunst.de). Foto: Thomas Klapper\nAm Dienstag\, dem 2. Dezember 2025 wird das neue Buch „Bodo Kampmann – ein Künstlerleben in Braunschweig“ von Bärbel Mäkeler vorgestellt. Die Buchpräsentation findet um 17 Uhr im Städtischen Museum statt. \nDort werden Dr. Andreas Büttner (Städtisches Museum Braunschweig)\, Prof. Dr. Gerd Biegel (Institut für Braunschweiger Regionalgeschichte)\, Nicole Froberg (Referat für Stadtbild und Denkmalpflege der Stadt Braunschweig) und die Autorin etwas zu Bodo Kampmann und seinem Werk sagen. Im Anschluss liest Claudia Gorille einige Passagen aus dem neuen Buch vor. \nDanach besteht die Möglichkeit\, die Kabinett-Ausstellung mit Goldschmiedearbeiten von Bodo Kampmann anzusehen. Eintritt frei.
URL:https://braunschweig-spiegel.de/termin/buchvorstellung-bodo-kampmann-ein-kuenstlerleben-in-braunschweig/
END:VEVENT
END:VCALENDAR