BEGIN:VCALENDAR
VERSION:2.0
PRODID:-//Braunschweig Spiegel - ECPv6.15.20//NONSGML v1.0//EN
CALSCALE:GREGORIAN
METHOD:PUBLISH
X-WR-CALNAME:Braunschweig Spiegel
X-ORIGINAL-URL:https://braunschweig-spiegel.de
X-WR-CALDESC:Veranstaltungen für Braunschweig Spiegel
REFRESH-INTERVAL;VALUE=DURATION:PT1H
X-Robots-Tag:noindex
X-PUBLISHED-TTL:PT1H
BEGIN:VTIMEZONE
TZID:Europe/Berlin
BEGIN:DAYLIGHT
TZOFFSETFROM:+0100
TZOFFSETTO:+0200
TZNAME:CEST
DTSTART:20240331T010000
END:DAYLIGHT
BEGIN:STANDARD
TZOFFSETFROM:+0200
TZOFFSETTO:+0100
TZNAME:CET
DTSTART:20241027T010000
END:STANDARD
BEGIN:DAYLIGHT
TZOFFSETFROM:+0100
TZOFFSETTO:+0200
TZNAME:CEST
DTSTART:20250330T010000
END:DAYLIGHT
BEGIN:STANDARD
TZOFFSETFROM:+0200
TZOFFSETTO:+0100
TZNAME:CET
DTSTART:20251026T010000
END:STANDARD
BEGIN:DAYLIGHT
TZOFFSETFROM:+0100
TZOFFSETTO:+0200
TZNAME:CEST
DTSTART:20260329T010000
END:DAYLIGHT
BEGIN:STANDARD
TZOFFSETFROM:+0200
TZOFFSETTO:+0100
TZNAME:CET
DTSTART:20261025T010000
END:STANDARD
END:VTIMEZONE
BEGIN:VEVENT
DTSTART;TZID=Europe/Berlin:20251201T153000
DTEND;TZID=Europe/Berlin:20251201T180000
DTSTAMP:20260420T004619
CREATED:20251029T134932Z
LAST-MODIFIED:20251029T134932Z
UID:71862-1764603000-1764612000@braunschweig-spiegel.de
SUMMARY:"Gemeinsam digital" - Studierende helfen älteren Menschen bei Fragen rund um Tablet\, Handy und Co.
DESCRIPTION:01. Dezember 2025\, 15:30 -18:00 Uhr\, Campus Lounge\, Mühlenpfordtstraße 4/5\, 38106 Braunschweig (Eingang über: Wendenmaschstraße)  \nDie Bürgerstiftung Braunschweig und die Technische Universität Braunschweig setzen ihr Kooperationsformat mit „Gemeinsam Digital“ im Winterhalbjahr fort. Das Angebot richtet sich an alle\, die im digitalen Alltag Unterstützung suchen. Studierende helfen vor allem älteren Menschen bei technischen Fragen und Problemen rund um Smartphone\, Tablet und digitale Anwendungen – gemeinsam mit- und voneinander lernen. Eine Anmeldung ist nicht erforderlich\, die Teilnahme ist kostenlos.
URL:https://braunschweig-spiegel.de/termin/gemeinsam-digital-studierende-helfen-aelteren-menschen-bei-fragen-rund-um-tablet-handy-und-co-4/
END:VEVENT
BEGIN:VEVENT
DTSTART;TZID=Europe/Berlin:20251201T193000
DTEND;TZID=Europe/Berlin:20251201T220000
DTSTAMP:20260420T004619
CREATED:20251127T125402Z
LAST-MODIFIED:20251127T125402Z
UID:72508-1764617400-1764626400@braunschweig-spiegel.de
SUMMARY:CASANOVA - erotische Lesung von Götz van Ooyen im Lindenhof-Theater
DESCRIPTION:Amelie Gruner und Goetz van Ooyen\nErotische Lesung mit Cembalo-Begleitung am 1. Dezember 2025 um 19.30 Uhr im Lindenhof-Theater Braunschweig \nDie erotische Lesung von Staatstheater-Schauspieler Götz van Ooyen widmet sich Casanova. Götz van Ooyen liest Casanova und Amelie Gruner aus Berlin begleitet den beliebten Schauspieler am Cembalo. Die Lesung findet am ersten Dezember 2025 um 19.30 Uhr im Lindenhof-Theater Braunschweig statt. Götz van Ooyen und Amelie Gruner sind regelmäßig Gast im Lindenhof-Theater Braunschweig. Bei der Konzertkasse in Braunschweig (Schloss Arkaden)\, Musikalien Bartels in Braunschweig und im Internet (https://www.eventim.de/noapp/event/20386815/?affiliate=NDZ&utm_source=NDZ&utm_medium=dp&utm_campaign=funkemedienniedersachsen) gibt es noch Karten zum Preis von 25\,- Euro (ermäßigt für Schüler\, Studenten und Auszubildende zum Preis von 15\,- Euro). Die Abendkasse im Lindenhof-Theater öffnet am 18.30 Uhr. Das Konzert findet im Lindenhof-Theater Braunschweig (Humboldtstraße Ecke Kasernenstraße – 1. Etage) statt. Vor\, während und nach dem Konzert ist die Theaterbar des Lindenhof-Theaters geöffnet. Speisen und Getränke können auch mit den in den Theatersaal genommen werden. Einlass in die Theaterbar ab 18.00 Uhr und die Plätze im Theatersaal können gegen 19.10 Uhr eingenommen werden. Im Lindenhof-Theater Braunschweig herrscht grundsätzlich freie Platzwahl. Das Konzert wird vom gemeinnützigen Verein zur Förderung der Kultur im Lindenhof Braunschweig – Lindenhof e. V. veranstaltet.
URL:https://braunschweig-spiegel.de/termin/casanova-erotische-lesung-von-goetz-van-ooyen-im-lindenhof-theater/
END:VEVENT
END:VCALENDAR